BEGIN:VCALENDAR
VERSION:2.0
PRODID:-//Revenue Forum - ECPv6.11.0//NONSGML v1.0//EN
CALSCALE:GREGORIAN
METHOD:PUBLISH
X-WR-CALNAME:Revenue Forum
X-ORIGINAL-URL:https://revenueforum.net
X-WR-CALDESC:Events for Revenue Forum
REFRESH-INTERVAL;VALUE=DURATION:PT1H
X-Robots-Tag:noindex
X-PUBLISHED-TTL:PT1H
BEGIN:VTIMEZONE
TZID:Europe/Stockholm
BEGIN:DAYLIGHT
TZOFFSETFROM:+0100
TZOFFSETTO:+0200
TZNAME:CEST
DTSTART:20240331T010000
END:DAYLIGHT
BEGIN:STANDARD
TZOFFSETFROM:+0200
TZOFFSETTO:+0100
TZNAME:CET
DTSTART:20241027T010000
END:STANDARD
END:VTIMEZONE
BEGIN:VEVENT
DTSTART;TZID=Europe/Stockholm:20241112T130000
DTEND;TZID=Europe/Stockholm:20241112T173000
DTSTAMP:20260421T130254
CREATED:20240315T125009Z
LAST-MODIFIED:20241106T153301Z
UID:10000189-1731416400-1731432600@revenueforum.net
SUMMARY:Revenue Forum Seminar Helsinki
DESCRIPTION:Revenue Forum Seminar Helsinki\nWhen: 12th of November\nWhere: Scandic Grand Marina \nTopic: Five ways to increase your result\nRevenue Forum organises industry-shaping sessions as leading visionaries address their view on the chosen topic. It is a fantastic opportunity to get easy access to the latest news and mingle with representatives within the industry. \nAgenda\n13:00 Registration. Coffee is served\n13.30 Introduction\n13.40 Helsinki & Finland insights\n14:00 Tomasz Leszczynski\, BEONx\n14.30 Mingel break\, Coffee is served\n15:00 Annemarie Gubanski\, Taktikon\n15.30 Discussion panel\n16:00 After Work where we offer wine\, beer and snacks\n17:30 End of the day
URL:https://revenueforum.net/coming-soon/revenue-forum-seminar-helsinki-2/
LOCATION:Scandic Grand Marina\, Katajanokanlaituri 7\, Helsinki\, 00160\, Finland
CATEGORIES:Revenue Forums
ATTACH;FMTTYPE=image/png:https://revenueforum.net/wp-content/uploads/2024/03/2024-11-RF-Nordic-8.png
END:VEVENT
END:VCALENDAR