BEGIN:VCALENDAR
VERSION:2.0
PRODID:-//Revenue Forum - ECPv6.11.0//NONSGML v1.0//EN
CALSCALE:GREGORIAN
METHOD:PUBLISH
X-WR-CALNAME:Revenue Forum
X-ORIGINAL-URL:https://revenueforum.net
X-WR-CALDESC:Events for Revenue Forum
REFRESH-INTERVAL;VALUE=DURATION:PT1H
X-Robots-Tag:noindex
X-PUBLISHED-TTL:PT1H
BEGIN:VTIMEZONE
TZID:Europe/Stockholm
BEGIN:DAYLIGHT
TZOFFSETFROM:+0100
TZOFFSETTO:+0200
TZNAME:CEST
DTSTART:20240331T010000
END:DAYLIGHT
BEGIN:STANDARD
TZOFFSETFROM:+0200
TZOFFSETTO:+0100
TZNAME:CET
DTSTART:20241027T010000
END:STANDARD
END:VTIMEZONE
BEGIN:VEVENT
DTSTART;TZID=Europe/Stockholm:20240910T130000
DTEND;TZID=Europe/Stockholm:20240910T173000
DTSTAMP:20260419T180638
CREATED:20240314T155137Z
LAST-MODIFIED:20240812T110907Z
UID:10000187-1725973200-1725989400@revenueforum.net
SUMMARY:Revenue Forum Seminar Copenhagen
DESCRIPTION:Revenue Forum Seminar Copenhagen\nWhen: 10th of September\nWhere: Scandic Falkoner \nTopic: Five ways to increase your result\nRevenue Forum organises industry-shaping sessions as leading visionaries address their view on the chosen topic. It is a fantastic opportunity to get easy access to the latest news and mingle with representatives within the industry. \nAgenda\n13:00 Registration. Coffee is served\n13:30 Welcome and introduction\n13:40 Annemarie Gubanski from Taktikon\n14:00 Sirma Ivanova from Trust You\n14:20 Weronica Mothes from ProfitRoom\n14:40 Mingel break. Coffee is served\n15:00 Evangelos Giannoulakis and Richard Duff from Navarino\n15:20 Sandra Martinez from Mirai\n15:40 Kim Spolén from Clock PMS\n16:00 After Work where we offer wine\, beer and snacks\n17:30 End of the day
URL:https://revenueforum.net/coming-soon/revenue-forum-seminar-copenhagen-2/
LOCATION:Scandic Falkoner\, Falkoner Alle 9\, Frederiksberg\, 2000\, Denmark
CATEGORIES:Revenue Forums
ATTACH;FMTTYPE=image/png:https://revenueforum.net/wp-content/uploads/2024/03/2024-09-RF-Scandinavia-Copenhagen.png
END:VEVENT
BEGIN:VEVENT
DTSTART;TZID=Europe/Stockholm:20240911T130000
DTEND;TZID=Europe/Stockholm:20240911T173000
DTSTAMP:20260419T180638
CREATED:20240314T153224Z
LAST-MODIFIED:20240911T090047Z
UID:10000186-1726059600-1726075800@revenueforum.net
SUMMARY:Revenue Forum Seminar Gothenburg
DESCRIPTION:Revenue Forum Seminar Gothenburg\nWhen: 11th of September\nWhere: Liseberg Grand Curiosa \nTopic: Five ways to increase your result\nRevenue Forum organises industry-shaping sessions as leading visionaries address their view on the chosen topic. It is a fantastic opportunity to get easy access to the latest news and mingle with representatives within the industry. \nAgenda \n13:00 Registration. Coffee is served\n13:30 Welcome and introduction\n13:40 Annemarie Gubanski from Taktikon\n14:00 Sirma Ivanova from Trust You\n14:20 Jolanta Bonter from ProfitRoom\n14:40 Mingel break. Coffee is served\n15:00 Evangelos Giannoulakis and Richard Duff from Navarino\n15:20 Sandra Martinez from Mirai\n15:40 Kim Spolén from Clock PMS\n16:00 After Work where we offer wine\, beer and snacks\n17:30 End of the day
URL:https://revenueforum.net/coming-soon/revenue-forum-seminar-gothenburg-2/
LOCATION:Liseberg Grand Curiosa Hotel\, Herman Lindholms torg 1\, Göteborg\, 412 63\, Sweden
CATEGORIES:Revenue Forums
ATTACH;FMTTYPE=image/png:https://revenueforum.net/wp-content/uploads/2024/03/2024-09-RF-Scandinavia-Gothenburg.png
END:VEVENT
BEGIN:VEVENT
DTSTART;TZID=Europe/Stockholm:20240912T130000
DTEND;TZID=Europe/Stockholm:20240912T173000
DTSTAMP:20260419T180638
CREATED:20240314T164015Z
LAST-MODIFIED:20240909T144130Z
UID:10000188-1726146000-1726162200@revenueforum.net
SUMMARY:Revenue Forum Seminar Stockholm
DESCRIPTION:Revenue Forum Seminar Stockholm\nWhen: 12th of September\nWhere: Hotel Birger Jarl \nTopic: Five ways to increase your result\nRevenue Forum organises industry-shaping sessions as leading visionaries address their view on the chosen topic. It is a fantastic opportunity to get easy access to the latest news and mingle with representatives within the industry. \nAgenda \n13:00 Registration. Coffee is served\n13:30 Welcome and introduction\n13:40 Annemarie Gubanski from Taktikon\n14:00 Sirma Ivanova from Trust You\n14:20 Jolanta Bonter from ProfitRoom\n14:40 Mingel break. Coffee is served\n15:00 Evangelos Giannoulakis and Richard Duff from Navarino\n15:20 Sandra Martinez from Mirai\n15:40 Kim Spolén from Clock PMS\n16:00 After Work where we offer wine\, beer and snacks\n17:30 End of the day
URL:https://revenueforum.net/coming-soon/revenue-forum-seminar-stockholm-2/
LOCATION:Hotel Birger Jarl\, Birger Jarls gatan 61\, Stockholm
CATEGORIES:Revenue Forums
ATTACH;FMTTYPE=image/png:https://revenueforum.net/wp-content/uploads/2024/03/2024-09-RF-Scandinavia-Stockholm.png
END:VEVENT
END:VCALENDAR