BEGIN:VCALENDAR
VERSION:2.0
PRODID:-//Revenue Forum - ECPv6.11.0//NONSGML v1.0//EN
CALSCALE:GREGORIAN
METHOD:PUBLISH
X-ORIGINAL-URL:https://revenueforum.net
X-WR-CALDESC:Events for Revenue Forum
REFRESH-INTERVAL;VALUE=DURATION:PT1H
X-Robots-Tag:noindex
X-PUBLISHED-TTL:PT1H
BEGIN:VTIMEZONE
TZID:Europe/Stockholm
BEGIN:DAYLIGHT
TZOFFSETFROM:+0100
TZOFFSETTO:+0200
TZNAME:CEST
DTSTART:20240331T010000
END:DAYLIGHT
BEGIN:STANDARD
TZOFFSETFROM:+0200
TZOFFSETTO:+0100
TZNAME:CET
DTSTART:20241027T010000
END:STANDARD
END:VTIMEZONE
BEGIN:VEVENT
DTSTART;VALUE=DATE:20240130
DTEND;VALUE=DATE:20240131
DTSTAMP:20260420T235725
CREATED:20230213T112253Z
LAST-MODIFIED:20240205T113737Z
UID:10000170-1706572800-1706659199@revenueforum.net
SUMMARY:Revenue Forum Event 30th of January 2024
DESCRIPTION:You are welcome to this fantastic event which will be held simultaneously in Stockholm\, London\, Millan\, Lisbon and online. This will be a not-to-miss day filled with keynote speakers\, workshops and mingle.
URL:https://revenueforum.net/coming-soon/revenue-forum-event-30th-of-january-2024/
LOCATION:Hotel Birger Jarl\, Birger Jarls gatan 61\, Stockholm
ATTACH;FMTTYPE=image/png:https://revenueforum.net/wp-content/uploads/2023/10/Banner-stor-signatur-800-×-200-px-800-×-250-px-800-×-200-px-800-×-160-px-23.png
END:VEVENT
END:VCALENDAR