BEGIN:VCALENDAR
VERSION:2.0
PRODID:-//Revenue Forum - ECPv6.11.0//NONSGML v1.0//EN
CALSCALE:GREGORIAN
METHOD:PUBLISH
X-ORIGINAL-URL:https://revenueforum.net
X-WR-CALDESC:Events for Revenue Forum
REFRESH-INTERVAL;VALUE=DURATION:PT1H
X-Robots-Tag:noindex
X-PUBLISHED-TTL:PT1H
BEGIN:VTIMEZONE
TZID:Europe/Stockholm
BEGIN:DAYLIGHT
TZOFFSETFROM:+0100
TZOFFSETTO:+0200
TZNAME:CEST
DTSTART:20230326T010000
END:DAYLIGHT
BEGIN:STANDARD
TZOFFSETFROM:+0200
TZOFFSETTO:+0100
TZNAME:CET
DTSTART:20231029T010000
END:STANDARD
END:VTIMEZONE
BEGIN:VEVENT
DTSTART;TZID=Europe/Stockholm:20230921T100000
DTEND;TZID=Europe/Stockholm:20230921T110000
DTSTAMP:20260421T074541
CREATED:20230725T085341Z
LAST-MODIFIED:20240205T113743Z
UID:10000179-1695290400-1695294000@revenueforum.net
SUMMARY:Benelux Travel Statistics Webinar
DESCRIPTION:Discover the potential of technology in increasing hotel profits in the Benelux region. Join our free webinar for the latest hotel statistics. We can’t wait to see you there!
URL:https://revenueforum.net/coming-soon/benelux-travel-statistics-webinar/
ATTACH;FMTTYPE=image/png:https://revenueforum.net/wp-content/uploads/2023/07/Benelux-webinar-2-24.png
LOCATION:https://us06web.zoom.us/j/86417265694
END:VEVENT
END:VCALENDAR