BEGIN:VCALENDAR
VERSION:2.0
PRODID:-//Revenue Forum - ECPv6.11.0//NONSGML v1.0//EN
CALSCALE:GREGORIAN
METHOD:PUBLISH
X-ORIGINAL-URL:https://revenueforum.net
X-WR-CALDESC:Events for Revenue Forum
REFRESH-INTERVAL;VALUE=DURATION:PT1H
X-Robots-Tag:noindex
X-PUBLISHED-TTL:PT1H
BEGIN:VTIMEZONE
TZID:Europe/Stockholm
BEGIN:DAYLIGHT
TZOFFSETFROM:+0100
TZOFFSETTO:+0200
TZNAME:CEST
DTSTART:20230326T010000
END:DAYLIGHT
BEGIN:STANDARD
TZOFFSETFROM:+0200
TZOFFSETTO:+0100
TZNAME:CET
DTSTART:20231029T010000
END:STANDARD
END:VTIMEZONE
BEGIN:VEVENT
DTSTART;VALUE=DATE:20230131
DTEND;VALUE=DATE:20230201
DTSTAMP:20260421T224517
CREATED:20220606T061420Z
LAST-MODIFIED:20240205T113755Z
UID:10000098-1675123200-1675209599@revenueforum.net
SUMMARY:Revenue Forum Event 31st of January 2023
DESCRIPTION:You are welcome to this fantastic event which will be held simultaneously in Stockholm\, London\, Millan and online. This will be a not-to-miss day filled with keynote speakers\, workshops and mingle.
URL:https://revenueforum.net/coming-soon/revenue-forum-event-31st-of-january-2023/
LOCATION:Courtyard by Marriott\, Rålambshovsleden 50\, Stockholm\, 112 19\, Sweden
CATEGORIES:Annual event
END:VEVENT
END:VCALENDAR