BEGIN:VCALENDAR
VERSION:2.0
PRODID:-//Revenue Forum - ECPv6.11.0//NONSGML v1.0//EN
CALSCALE:GREGORIAN
METHOD:PUBLISH
X-WR-CALNAME:Revenue Forum
X-ORIGINAL-URL:https://revenueforum.net
X-WR-CALDESC:Events for Revenue Forum
REFRESH-INTERVAL;VALUE=DURATION:PT1H
X-Robots-Tag:noindex
X-PUBLISHED-TTL:PT1H
BEGIN:VTIMEZONE
TZID:Europe/Stockholm
BEGIN:DAYLIGHT
TZOFFSETFROM:+0100
TZOFFSETTO:+0200
TZNAME:CEST
DTSTART:20220327T010000
END:DAYLIGHT
BEGIN:STANDARD
TZOFFSETFROM:+0200
TZOFFSETTO:+0100
TZNAME:CET
DTSTART:20221030T010000
END:STANDARD
END:VTIMEZONE
BEGIN:VEVENT
DTSTART;TZID=Europe/Stockholm:20221013T150000
DTEND;TZID=Europe/Stockholm:20221013T160000
DTSTAMP:20260422T000633
CREATED:20211230T102647Z
LAST-MODIFIED:20240205T113800Z
UID:10000155-1665673200-1665676800@revenueforum.net
SUMMARY:Revenue Forum Webinar 13th of October 2022
DESCRIPTION:Perfect Packaging\, how to increase ancillary revenue\nDate\n13th of October 2022 \nTime\n15.00-16.00 CET \nSpeakers \nAnnemarie Gubanski from Taktikon Consultancy\nSamantha Williams from ProfitRoom\,\nErik Tengen from Oaky\,\nNeil James\, ReviewPro\,\nHicham Benyebdri\, UserGuest\, \nSpecial guest: Therese Andersson from Icehotel
URL:https://revenueforum.net/coming-soon/revenue-forum-webinar-13th-of-october-2022/
CATEGORIES:Webinar
ATTACH;FMTTYPE=image/jpeg:https://revenueforum.net/wp-content/uploads/2021/12/2022-10-13-Webinar-6-speakers.jpg
LOCATION:https://zoom.us/j/94477782114
END:VEVENT
END:VCALENDAR