BEGIN:VCALENDAR
VERSION:2.0
PRODID:-//Revenue Forum - ECPv6.11.0//NONSGML v1.0//EN
CALSCALE:GREGORIAN
METHOD:PUBLISH
X-ORIGINAL-URL:https://revenueforum.net
X-WR-CALDESC:Events for Revenue Forum
REFRESH-INTERVAL;VALUE=DURATION:PT1H
X-Robots-Tag:noindex
X-PUBLISHED-TTL:PT1H
BEGIN:VTIMEZONE
TZID:Europe/Stockholm
BEGIN:DAYLIGHT
TZOFFSETFROM:+0100
TZOFFSETTO:+0200
TZNAME:CEST
DTSTART:20220327T010000
END:DAYLIGHT
BEGIN:STANDARD
TZOFFSETFROM:+0200
TZOFFSETTO:+0100
TZNAME:CET
DTSTART:20221030T010000
END:STANDARD
END:VTIMEZONE
BEGIN:VEVENT
DTSTART;TZID=Europe/Stockholm:20220613T140000
DTEND;TZID=Europe/Stockholm:20220613T183000
DTSTAMP:20260422T033951
CREATED:20220408T052722Z
LAST-MODIFIED:20240205T113808Z
UID:10000092-1655128800-1655145000@revenueforum.net
SUMMARY:Revenue Forum Seminar Stockholm 13th of June
DESCRIPTION:Revenue Forum Seminar Stockholm\nFinally we can start again with our half day seminars! \nWhen: 13th of June\nWhere: Elite Palace in Stockholm \nTopic: The art of finding the right technology\nThis time we will talk about the technology necessary for the hotel industry to stay Up To Date. We have invited an expert panel to help us prepare for the future. \nThe hospitality industry wakes up after two years of pandemic and finds itself in a completely changed world where guest mix changed\, expectations increased and staff is in short supply. The question of finding the right technology is an important one \n\nHow to find the right technology\nWhat are the expectations our guests have on us?\nWhat future expectations do I have to meet?\nIt is 2022. When will we get systems that work together?\nThe importance of connectivity\n\n \nAgenda\n14:00 Registration. Coffee is served\n14:30 Welcome and introduction\n14:45 Kim Spolén from Infor\n15:15 Anna Tarnovskaya from SHR\n15:45 Swedish Fika\n16:00 Stephan Kohl from HQ Revenue\n16:30 Annemarie Gubanski from Taktikon\n17:00 After Work\n18:30 End of the day
URL:https://revenueforum.net/coming-soon/revenue-forum-seminar-13th-of-june/
LOCATION:Elite Palace Hotel\, Sankt Eriksgatan 115\, Stockholm\, 11343\, Sweden
CATEGORIES:Revenue Forums
ATTACH;FMTTYPE=image/jpeg:https://revenueforum.net/wp-content/uploads/2022/04/Revenue-Forum-Stockholm.jpg
END:VEVENT
BEGIN:VEVENT
DTSTART;TZID=Europe/Stockholm:20220614T020000
DTEND;TZID=Europe/Stockholm:20220614T183000
DTSTAMP:20260422T033951
CREATED:20220420T124809Z
LAST-MODIFIED:20240205T113807Z
UID:10000093-1655172000-1655231400@revenueforum.net
SUMMARY:Revenue Forum Seminar Gothenburg 14th of June
DESCRIPTION:   Revenue Forum Seminar Gothenburg\nFinally we can start again with our half day seminars! \nWhen: 14th of June\nWhere: Elite Plaza Hotel in Gothenburg \nTopic: The art of finding the right technology\nThis time we will talk about the technology necessary for the hotel industry to stay Up To Date. We have invited an expert panel to help us prepare for the future. \nThe hospitality industry wakes up after two years of pandemic and finds itself in a completely changed world where guest mix changed\, expectations increased and staff is in short supply. The question of finding the right technology is an important one \n\nHow to find the right technology\nWhat are the expectations our guests have on us?\nWhat future expectations do I have to meet?\nIt is 2022. When will we get systems that work together?\nThe importance of connectivity\n\n \nAgenda\n14:00 Registration. Coffee is served\n14:30 Welcome and introduction\n14:45 Kim Spolén from Infor\n15:15 Anna Tarnovskaya from SHR\n15:45 Swedish Fika\n16:00 Stephan Kohl from HQ Revenue\n16:30 Annemarie Gubanski from Taktikon\n17:00 After Work\n18:30 End of the day
URL:https://revenueforum.net/coming-soon/revenue-forum-seminar-14th-of-june/
LOCATION:Elite Plaza Göteborg\, Västra Hamngatan 3\, Gothenburg\, 41117\, Sweden
CATEGORIES:Revenue Forums
ATTACH;FMTTYPE=image/jpeg:https://revenueforum.net/wp-content/uploads/2022/04/Revenue-Forum-Gothenburg.jpg
END:VEVENT
BEGIN:VEVENT
DTSTART;TZID=Europe/Stockholm:20220615T140000
DTEND;TZID=Europe/Stockholm:20220615T183000
DTSTAMP:20260422T033951
CREATED:20220420T125404Z
LAST-MODIFIED:20240205T113806Z
UID:10000094-1655301600-1655317800@revenueforum.net
SUMMARY:Revenue Forum Seminar Copenhagen 15th of June
DESCRIPTION:Revenue Forum Seminar Copenhagen\nFinally we can start again with our half day seminars! \nWhen: 15th of June\nWhere: Hotel Kong Arthur \nTopic: The art of finding the right technology\nThis time we will talk about the technology necessary for the hotel industry to stay Up To Date. We have invited an expert panel to help us prepare for the future. \nThe hospitality industry wakes up after two years of pandemic and finds itself in a completely changed world where guest mix changed\, expectations increased and staff is in short supply. The question of finding the right technology is an important one \n\nHow to find the right technology\nWhat are the expectations our guests have on us?\nWhat future expectations do I have to meet?\nIt is 2022. When will we get systems that work together?\nThe importance of connectivity\n\n \nAgenda\n14:00 Registration. Coffee is served\n14:30 Welcome and introduction\n14:45 Kim Spolén from Infor\n15:15 Anna Tarnovskaya from SHR\n15:45 Break\n16:00 Stephan Kohl from HQ Revenue\n16:30 Annemarie Gubanski from Taktikon\n17:00 After Work\n18:30 End of the day
URL:https://revenueforum.net/coming-soon/revenue-forum-seminar-15th-of-june/
LOCATION:Hotel Kong Arthur\, Nørre Søgade 11\, Copenhagen\, 1370\, Denmark
CATEGORIES:Revenue Forums
ATTACH;FMTTYPE=image/jpeg:https://revenueforum.net/wp-content/uploads/2022/04/Revenue-Forum-Copenhagen.jpg
END:VEVENT
END:VCALENDAR