BEGIN:VCALENDAR
VERSION:2.0
PRODID:-//Revenue Forum - ECPv6.11.0//NONSGML v1.0//EN
CALSCALE:GREGORIAN
METHOD:PUBLISH
X-WR-CALNAME:Revenue Forum
X-ORIGINAL-URL:https://revenueforum.net
X-WR-CALDESC:Events for Revenue Forum
REFRESH-INTERVAL;VALUE=DURATION:PT1H
X-Robots-Tag:noindex
X-PUBLISHED-TTL:PT1H
BEGIN:VTIMEZONE
TZID:Europe/Stockholm
BEGIN:DAYLIGHT
TZOFFSETFROM:+0100
TZOFFSETTO:+0200
TZNAME:CEST
DTSTART:20230326T010000
END:DAYLIGHT
BEGIN:STANDARD
TZOFFSETFROM:+0200
TZOFFSETTO:+0100
TZNAME:CET
DTSTART:20231029T010000
END:STANDARD
END:VTIMEZONE
BEGIN:VEVENT
DTSTART;TZID=Europe/Stockholm:20230420T150000
DTEND;TZID=Europe/Stockholm:20230420T160000
DTSTAMP:20260421T074336
CREATED:20220914T091721Z
LAST-MODIFIED:20240205T113752Z
UID:10000168-1682002800-1682006400@revenueforum.net
SUMMARY:Revenue Forum Webinar 20th of April 2023
DESCRIPTION:How Guest Communication can increase  Reservations\nThe time of collecting points in order to save for a free night which can be obtained after many months of collecting is gone. Nowadays guests want to have instant gratification and recognition before and during their stay. But how can we make that happen? What technology do we need and what training can hotels provide their staff to increase Guest Recognition? \nDate:\n20th of April 2023 \nTime:\n15.00-16.00 CET \nSpeakers: \nAnnemarie Gubanski from Taktikon Consultancy will talk about: Why hotels need to go over to generation market segmentation and how this can help to determine their social media strategy. \nFiona Gillen from The Hotels Network will talk about: How to personalize guest communication throughout the online guest journey. \nJenny Langone from Expedia group will talk about: The Secret to Success\, Solutions to help you inspire travelers to book. \nSpecial Guest: Vanja Vilbern from Stockholm Meeting Selection
URL:https://revenueforum.net/coming-soon/revenue-forum-webinar-20th-of-april-2023/
CATEGORIES:Webinar
ATTACH;FMTTYPE=image/png:https://revenueforum.net/wp-content/uploads/2022/09/2023-04-20-Webinar-3.png
LOCATION:https://us06web.zoom.us/j/89858660872
END:VEVENT
END:VCALENDAR