BEGIN:VCALENDAR
VERSION:2.0
PRODID:-//Revenue Forum - ECPv6.11.0//NONSGML v1.0//EN
CALSCALE:GREGORIAN
METHOD:PUBLISH
X-WR-CALNAME:Revenue Forum
X-ORIGINAL-URL:https://revenueforum.net
X-WR-CALDESC:Events for Revenue Forum
REFRESH-INTERVAL;VALUE=DURATION:PT1H
X-Robots-Tag:noindex
X-PUBLISHED-TTL:PT1H
BEGIN:VTIMEZONE
TZID:Europe/Stockholm
BEGIN:DAYLIGHT
TZOFFSETFROM:+0100
TZOFFSETTO:+0200
TZNAME:CEST
DTSTART:20240331T010000
END:DAYLIGHT
BEGIN:STANDARD
TZOFFSETFROM:+0200
TZOFFSETTO:+0100
TZNAME:CET
DTSTART:20241027T010000
END:STANDARD
END:VTIMEZONE
BEGIN:VEVENT
DTSTART;TZID=Europe/Stockholm:20240416T130000
DTEND;TZID=Europe/Stockholm:20240416T173000
DTSTAMP:20260420T072702
CREATED:20230613T121555Z
LAST-MODIFIED:20240411T101510Z
UID:10000110-1713272400-1713288600@revenueforum.net
SUMMARY:Revenue Forum Seminar Vilnius
DESCRIPTION:Revenue Forum Seminar Vilnius\nWhen: 16th of April\nWhere: Radisson Blu Hotel Lietuva \nTopic: Five ways to increase result\nRevenue Forum organises industry-shaping sessions as leading visionaries address their view on the chosen topic. It is a fantastic opportunity to get easy access to the latest news and mingle with representatives within the industry. \nAgenda\n13:00 Registration. Coffee is served\n13:30 Welcome and introduction\n13:50 Annemarie Gubanski\, Taktikon\, The five skills a Revenue Manager needs to understand\n14:10 Henrik Karlsson\, Benchmarking Alliance\, Optimize your revenue with benchmarking and market data.\n14:30 Mingel break. Coffee is served\n15:00 Tomasz Leszczynski\, BEONx\, The path to sustainable profitability and the impact on AI on the Hotel Industry\n15:20 Janne Tuominen\, DigitalGuest\, How to Increase Hotel Performance with Digitalization – by utilizing the forgotten in-stay experience\n15:40 Kim Spolén\, Clock PMS\, The importance of integrations – or Why you should not confuse an API with an IPA\n16:00 After Work where we offer wine\, beer and snacks\n17:30 End of the day
URL:https://revenueforum.net/coming-soon/revenue-forum-seminar-vilnius/
LOCATION:Radisson Blu Hotel Lietuva\, Konstitucijos av. 20\, Vilnius\, LT-09308\, Latvia
CATEGORIES:Revenue Forums
ATTACH;FMTTYPE=image/png:https://revenueforum.net/wp-content/uploads/2023/06/2024-04-Baltic-24.png
END:VEVENT
BEGIN:VEVENT
DTSTART;TZID=Europe/Stockholm:20240417T130000
DTEND;TZID=Europe/Stockholm:20240417T173000
DTSTAMP:20260420T072702
CREATED:20230613T122717Z
LAST-MODIFIED:20240415T091133Z
UID:10000171-1713358800-1713375000@revenueforum.net
SUMMARY:Revenue Forum Seminars Riga
DESCRIPTION:Revenue Forum Seminar Riga\nWhen: 17th of April\nWhere: Tallink Hotel Riga \nTopic: Five ways to increase result\nRevenue Forum organises industry-shaping sessions as leading visionaries address their view on the chosen topic. It is a fantastic opportunity to get easy access to the latest news and mingle with representatives within the industry. \nAgenda\n13:00 Registration. Coffee is served\n13:30 Welcome and introduction\n13:50 Annemarie Gubanski\, Taktikon\, The five skills a Revenue Manager needs to understand\n14:10 Henrik Karlsson\, Benchmarking Alliance\, Optimize your revenue with benchmarking and market data.\n14:30 Mingel break. Coffee is served\n15:00 Tomasz Leszczynski\, BEONx\, The impact on AI on the Hotel Industry\n15:20 Janne Tuominen\, DigitalGuest\, How to Increase Hotel Performance with Digitalization – by utilizing the forgotten in-stay experience\n15:40 Kim Spolén\, Clock PMS\, The importance of integrations – or Why you should not confuse an API with an IPA\n16:00 After Work where we offer wine\, beer and snacks\n17:30 End of the day
URL:https://revenueforum.net/coming-soon/revenue-forum-seminars-riga-17th-of-april-2024/
LOCATION:Tallink Hotel Riga\, Elizabetes iela 24-1\, Riga\, 1050\, Latvia
CATEGORIES:Revenue Forums
ATTACH;FMTTYPE=image/png:https://revenueforum.net/wp-content/uploads/2023/06/2024-04-Baltic-20.png
END:VEVENT
BEGIN:VEVENT
DTSTART;TZID=Europe/Stockholm:20240418T130000
DTEND;TZID=Europe/Stockholm:20240418T173000
DTSTAMP:20260420T072702
CREATED:20230613T123626Z
LAST-MODIFIED:20240409T090903Z
UID:10000172-1713445200-1713461400@revenueforum.net
SUMMARY:Revenue Forum Seminar Tallinn
DESCRIPTION:Revenue Forum Seminar Tallinn\nWhen: 18th of April\nWhere: Hilton Tallinn Park \nTopic: Five ways to increase result\nRevenue Forum organises industry-shaping sessions as leading visionaries address their view on the chosen topic. It is a fantastic opportunity to get easy access to the latest news and mingle with representatives within the industry. \nAgenda\n13:00 Registration. Coffee is served\n13:30 Welcome and introduction\n13:50 Annemarie Gubanski\, Taktikon\, The five skills a Revenue Manager needs to understand\n14:10 Henrik Karlsson\, Benchmarking Alliance\, Optimize your revenue with benchmarking and market data.\n14:30 Mingel break. Coffee is served\n15:00 Tomasz Leszczynski\, BEONx\, The impact on AI on the Hotel Industry\n15:20 Janne Tuominen\, DigitalGuest\, How to Increase Hotel Performance with Digitalization – by utilizing the forgotten in-stay experience\n15:40 Kim Spolén\, Clock PMS\, The importance of integrations – or Why you should not confuse an API with an IPA\n16:00 After Work where we offer wine\, beer and snacks\n17:30 End of the day
URL:https://revenueforum.net/coming-soon/revenue-forum-seminar-tallinn/
LOCATION:Hilton Tallin Park\, FR.R.Kreutzwaldi 23\, Tallinn\, 10145\, Estonia
CATEGORIES:Revenue Forums
ATTACH;FMTTYPE=image/png:https://revenueforum.net/wp-content/uploads/2023/06/2024-04-Baltic-21.png
END:VEVENT
BEGIN:VEVENT
DTSTART;TZID=Europe/Stockholm:20240523T150000
DTEND;TZID=Europe/Stockholm:20240523T160000
DTSTAMP:20260420T072702
CREATED:20230614T160321Z
LAST-MODIFIED:20240423T125641Z
UID:10000178-1716476400-1716480000@revenueforum.net
SUMMARY:Revenue Forum Webinar 23th of May
DESCRIPTION:Attribute Based Pricing\, the future of pricing?\nIn the attribute-based pricing approach the inventory is broken down into components or attributes rather than defining room types and rate types. Room attributes are things like King or Queen bedding\, floorplan\, floor location\, view\, or guest occupancy. Will this be the way our guests want us to sell and price our products in the future? \nDate: 23th of May 2024 \nTime:\n15.00-16.00 CET \nSpeakers: \nAnnemarie Gubanski from Taktikon Consultancy\nRicardo Sereno from BEONx\, Attribute Based Pricing and it’s effect on Revenue Management\nCarina Stegmayer from Gauvendi\, How dynamic inventory impacts the hospitality industry\nPablo Delgado from Mirai\, Attribute Based Pricing\, can it be done?
URL:https://revenueforum.net/coming-soon/revenue-forum-webinar-23th-of-may/
CATEGORIES:Webinar
ATTACH;FMTTYPE=image/png:https://revenueforum.net/wp-content/uploads/2023/06/2024-05-Banner-Webinar-9.png
LOCATION:https://us06web.zoom.us/j/86432643820
END:VEVENT
BEGIN:VEVENT
DTSTART;TZID=Europe/Stockholm:20240604T130000
DTEND;TZID=Europe/Stockholm:20240604T173000
DTSTAMP:20260420T072702
CREATED:20230613T132855Z
LAST-MODIFIED:20240519T185615Z
UID:10000173-1717506000-1717522200@revenueforum.net
SUMMARY:Revenue Forum Seminar The Hague
DESCRIPTION:Revenue Forum Seminar The Hague\nWhen: 4th of June\nWhere: The Hague Marriott \nTopic: Five ways to increase your result\nRevenue Forum organises industry-shaping sessions as leading visionaries address their view on the chosen topic. It is a fantastic opportunity to get easy access to the latest news and mingle with representatives within the industry. \nAgenda\n13:00 Registration. Coffee is served\n13:30 Welcome and introduction\n13:40 Annemarie Gubanski\, Taktikon\, What is needed for Revenue Managers to become Profit Managers?\n14:00 Tomasz Leszczynski from BEONx\, Achieving sustainable and profitable Revenue Management strategies\n14:20 Markus Mueller from Gauvendi\, How AI can help win the Attribute Based Pricing game\n14:40 Mingel break. Coffee is served\n15:00 Magnus Kleist from Pair\, Case Studies in enhancing guest experience\n15:20 Allard Alfrink\, Cendyn\, personalisation throughout every step of the booking journey\n15:40 Dominik Henze from Trust You\, Applying AI to achieve Elevating Guest Experience\n16:00 After Work where we offer wine\, beer and snacks\n17:30 End of the day
URL:https://revenueforum.net/coming-soon/revenue-forum-seminar-the-hague/
LOCATION:The Hague Marriott\, Johan de Wittlaan 30\, Den Haag\, 2517 JR\, Netherlands
CATEGORIES:Revenue Forums
ATTACH;FMTTYPE=image/png:https://revenueforum.net/wp-content/uploads/2023/06/2024-06-Website-Banner-The-Hague.png
END:VEVENT
BEGIN:VEVENT
DTSTART;TZID=Europe/Stockholm:20240605T130000
DTEND;TZID=Europe/Stockholm:20240605T173000
DTSTAMP:20260420T072702
CREATED:20230613T133145Z
LAST-MODIFIED:20240604T071735Z
UID:10000174-1717592400-1717608600@revenueforum.net
SUMMARY:Revenue Forum Seminar Brussels
DESCRIPTION:Revenue Forum Seminar Brussels\nWhen: 5th of June\nWhere: Thon Hotel Brussels City Center \nTopic: Five ways to increase your result\nRevenue Forum organises industry-shaping sessions as leading visionaries address their view on the chosen topic. It is a fantastic opportunity to get easy access to the latest news and mingle with representatives within the industry. \nAgenda\n13:00 Registration. Coffee is served\n13:30 Welcome and introduction\n13:40 Annemarie Gubanski\, Taktikon\, What is needed for Revenue Managers to become Profit Managers?\n14:00 Tomasz Leszczynski from BEONx\, Achieving sustainable and profitable Revenue Management strategies\n14:20 Markus Mueller from Gauvendi\, How AI can help win the Attribute Based Pricing game\n14:40 Mingel break. Coffee is served\n15:00 Magnus Kleist from Pair\, Case Studies in enhancing guest experience\n15:20 Allard Alfrink\, Cendyn\, personalisation throughout every step of the booking journey\n15:40 Dominik Henze from Trust You\, Applying AI to achieve Elevating Guest Experience\n16:00 After Work where we offer wine\, beer and snacks\n17:30 End of the day
URL:https://revenueforum.net/coming-soon/revenue-forum-seminar-brussels/
LOCATION:Thon Hotel Brussels City Center\, Av. du Boulevard 17\, Brussels\, 1210\, Belgium
CATEGORIES:Revenue Forums
ATTACH;FMTTYPE=image/png:https://revenueforum.net/wp-content/uploads/2023/06/2024-06-Website-Banner-Brussels.png
END:VEVENT
BEGIN:VEVENT
DTSTART;TZID=Europe/Stockholm:20240606T130000
DTEND;TZID=Europe/Stockholm:20240606T173000
DTSTAMP:20260420T072702
CREATED:20230613T134302Z
LAST-MODIFIED:20240605T064552Z
UID:10000175-1717678800-1717695000@revenueforum.net
SUMMARY:Revenue Forum Seminar Amsterdam
DESCRIPTION:Revenue Forum Seminar Amsterdam\nWhen: 6th of June\nWhere: Park Inn by Radisson Amsterdam City West \nTopic: Five ways to increase your result\nRevenue Forum organises industry-shaping sessions as leading visionaries address their view on the chosen topic. It is a fantastic opportunity to get easy access to the latest news and mingle with representatives within the industry. \nAgenda\n13:00 Registration. Coffee is served\n13:30 Welcome and introduction\n13:40 Annemarie Gubanski\, Taktikon\, What is needed for Revenue Managers to become Profit Managers?\n14:00 Tomasz Leszczynski from BEONx\, Achieving sustainable and profitable Revenue Management strategies\n14:20 Markus Mueller from Gauvendi\, How AI can help win the Attribute Based Pricing game\n14:40 Mingel break. Coffee is served\n15:00 Allard Alfrink\, Cendyn\, personalisation throughout every step of the booking journey\n15:20 Dominik Henze from Trust You\, Applying AI to achieve Elevating Guest Experience\n15:40 Discussion Forum. Any questions….?\n16:00 After Work where we offer wine\, beer and snacks\n17:30 End of the day
URL:https://revenueforum.net/coming-soon/revenue-forum-seminar-amsterdam/
LOCATION:Park Inn by Radisson Amsterdam City West\, La Guardiaweg 59\, Amsterdam\, 1043 DE\, Netherlands
CATEGORIES:Revenue Forums
ATTACH;FMTTYPE=image/png:https://revenueforum.net/wp-content/uploads/2023/06/2024-06-06-Revenue-Forum-Amsterdam.png
END:VEVENT
BEGIN:VEVENT
DTSTART;TZID=Europe/Stockholm:20240822T150000
DTEND;TZID=Europe/Stockholm:20240822T160000
DTSTAMP:20260420T072702
CREATED:20240103T152112Z
LAST-MODIFIED:20240813T063621Z
UID:10000182-1724338800-1724342400@revenueforum.net
SUMMARY:Revenue Forum Webinar 22nd August
DESCRIPTION:Digital Marketing for Hotels. Some Best Practices\nDate: 22nd August 2024 \nTime:\n15.00-16.00 CET \nSpeakers: \nAnnemarie Gubanski from Taktikon Consultancy\nKim Spolén from Clock PMS+\nMarkus Mueller from GauVendi\nMichal Wolosz from Story Sculptors\nChristophe Pereira from Cendyn
URL:https://revenueforum.net/coming-soon/revenue-forum-webinar-22nd-august/
CATEGORIES:Webinar
ATTACH;FMTTYPE=image/png:https://revenueforum.net/wp-content/uploads/2024/01/2024-08-Banner-Webinar.png
LOCATION:https://us06web.zoom.us/j/81425472554
END:VEVENT
END:VCALENDAR