BEGIN:VCALENDAR
VERSION:2.0
PRODID:-//Revenue Forum - ECPv6.11.0//NONSGML v1.0//EN
CALSCALE:GREGORIAN
METHOD:PUBLISH
X-WR-CALNAME:Revenue Forum
X-ORIGINAL-URL:https://revenueforum.net
X-WR-CALDESC:Events for Revenue Forum
REFRESH-INTERVAL;VALUE=DURATION:PT1H
X-Robots-Tag:noindex
X-PUBLISHED-TTL:PT1H
BEGIN:VTIMEZONE
TZID:Europe/Stockholm
BEGIN:DAYLIGHT
TZOFFSETFROM:+0100
TZOFFSETTO:+0200
TZNAME:CEST
DTSTART:20240331T010000
END:DAYLIGHT
BEGIN:STANDARD
TZOFFSETFROM:+0200
TZOFFSETTO:+0100
TZNAME:CET
DTSTART:20241027T010000
END:STANDARD
END:VTIMEZONE
BEGIN:VEVENT
DTSTART;TZID=Europe/Stockholm:20240416T130000
DTEND;TZID=Europe/Stockholm:20240416T173000
DTSTAMP:20260421T072948
CREATED:20230613T121555Z
LAST-MODIFIED:20240411T101510Z
UID:10000110-1713272400-1713288600@revenueforum.net
SUMMARY:Revenue Forum Seminar Vilnius
DESCRIPTION:Revenue Forum Seminar Vilnius\nWhen: 16th of April\nWhere: Radisson Blu Hotel Lietuva \nTopic: Five ways to increase result\nRevenue Forum organises industry-shaping sessions as leading visionaries address their view on the chosen topic. It is a fantastic opportunity to get easy access to the latest news and mingle with representatives within the industry. \nAgenda\n13:00 Registration. Coffee is served\n13:30 Welcome and introduction\n13:50 Annemarie Gubanski\, Taktikon\, The five skills a Revenue Manager needs to understand\n14:10 Henrik Karlsson\, Benchmarking Alliance\, Optimize your revenue with benchmarking and market data.\n14:30 Mingel break. Coffee is served\n15:00 Tomasz Leszczynski\, BEONx\, The path to sustainable profitability and the impact on AI on the Hotel Industry\n15:20 Janne Tuominen\, DigitalGuest\, How to Increase Hotel Performance with Digitalization – by utilizing the forgotten in-stay experience\n15:40 Kim Spolén\, Clock PMS\, The importance of integrations – or Why you should not confuse an API with an IPA\n16:00 After Work where we offer wine\, beer and snacks\n17:30 End of the day
URL:https://revenueforum.net/coming-soon/revenue-forum-seminar-vilnius/
LOCATION:Radisson Blu Hotel Lietuva\, Konstitucijos av. 20\, Vilnius\, LT-09308\, Latvia
CATEGORIES:Revenue Forums
ATTACH;FMTTYPE=image/png:https://revenueforum.net/wp-content/uploads/2023/06/2024-04-Baltic-24.png
END:VEVENT
BEGIN:VEVENT
DTSTART;TZID=Europe/Stockholm:20240417T130000
DTEND;TZID=Europe/Stockholm:20240417T173000
DTSTAMP:20260421T072948
CREATED:20230613T122717Z
LAST-MODIFIED:20240415T091133Z
UID:10000171-1713358800-1713375000@revenueforum.net
SUMMARY:Revenue Forum Seminars Riga
DESCRIPTION:Revenue Forum Seminar Riga\nWhen: 17th of April\nWhere: Tallink Hotel Riga \nTopic: Five ways to increase result\nRevenue Forum organises industry-shaping sessions as leading visionaries address their view on the chosen topic. It is a fantastic opportunity to get easy access to the latest news and mingle with representatives within the industry. \nAgenda\n13:00 Registration. Coffee is served\n13:30 Welcome and introduction\n13:50 Annemarie Gubanski\, Taktikon\, The five skills a Revenue Manager needs to understand\n14:10 Henrik Karlsson\, Benchmarking Alliance\, Optimize your revenue with benchmarking and market data.\n14:30 Mingel break. Coffee is served\n15:00 Tomasz Leszczynski\, BEONx\, The impact on AI on the Hotel Industry\n15:20 Janne Tuominen\, DigitalGuest\, How to Increase Hotel Performance with Digitalization – by utilizing the forgotten in-stay experience\n15:40 Kim Spolén\, Clock PMS\, The importance of integrations – or Why you should not confuse an API with an IPA\n16:00 After Work where we offer wine\, beer and snacks\n17:30 End of the day
URL:https://revenueforum.net/coming-soon/revenue-forum-seminars-riga-17th-of-april-2024/
LOCATION:Tallink Hotel Riga\, Elizabetes iela 24-1\, Riga\, 1050\, Latvia
CATEGORIES:Revenue Forums
ATTACH;FMTTYPE=image/png:https://revenueforum.net/wp-content/uploads/2023/06/2024-04-Baltic-20.png
END:VEVENT
BEGIN:VEVENT
DTSTART;TZID=Europe/Stockholm:20240418T130000
DTEND;TZID=Europe/Stockholm:20240418T173000
DTSTAMP:20260421T072948
CREATED:20230613T123626Z
LAST-MODIFIED:20240409T090903Z
UID:10000172-1713445200-1713461400@revenueforum.net
SUMMARY:Revenue Forum Seminar Tallinn
DESCRIPTION:Revenue Forum Seminar Tallinn\nWhen: 18th of April\nWhere: Hilton Tallinn Park \nTopic: Five ways to increase result\nRevenue Forum organises industry-shaping sessions as leading visionaries address their view on the chosen topic. It is a fantastic opportunity to get easy access to the latest news and mingle with representatives within the industry. \nAgenda\n13:00 Registration. Coffee is served\n13:30 Welcome and introduction\n13:50 Annemarie Gubanski\, Taktikon\, The five skills a Revenue Manager needs to understand\n14:10 Henrik Karlsson\, Benchmarking Alliance\, Optimize your revenue with benchmarking and market data.\n14:30 Mingel break. Coffee is served\n15:00 Tomasz Leszczynski\, BEONx\, The impact on AI on the Hotel Industry\n15:20 Janne Tuominen\, DigitalGuest\, How to Increase Hotel Performance with Digitalization – by utilizing the forgotten in-stay experience\n15:40 Kim Spolén\, Clock PMS\, The importance of integrations – or Why you should not confuse an API with an IPA\n16:00 After Work where we offer wine\, beer and snacks\n17:30 End of the day
URL:https://revenueforum.net/coming-soon/revenue-forum-seminar-tallinn/
LOCATION:Hilton Tallin Park\, FR.R.Kreutzwaldi 23\, Tallinn\, 10145\, Estonia
CATEGORIES:Revenue Forums
ATTACH;FMTTYPE=image/png:https://revenueforum.net/wp-content/uploads/2023/06/2024-04-Baltic-21.png
END:VEVENT
END:VCALENDAR