BEGIN:VCALENDAR
VERSION:2.0
PRODID:-//Revenue Forum - ECPv6.11.0//NONSGML v1.0//EN
CALSCALE:GREGORIAN
METHOD:PUBLISH
X-WR-CALNAME:Revenue Forum
X-ORIGINAL-URL:https://revenueforum.net
X-WR-CALDESC:Events for Revenue Forum
REFRESH-INTERVAL;VALUE=DURATION:PT1H
X-Robots-Tag:noindex
X-PUBLISHED-TTL:PT1H
BEGIN:VTIMEZONE
TZID:Europe/Stockholm
BEGIN:DAYLIGHT
TZOFFSETFROM:+0100
TZOFFSETTO:+0200
TZNAME:CEST
DTSTART:20210328T010000
END:DAYLIGHT
BEGIN:STANDARD
TZOFFSETFROM:+0200
TZOFFSETTO:+0100
TZNAME:CET
DTSTART:20211031T010000
END:STANDARD
BEGIN:DAYLIGHT
TZOFFSETFROM:+0100
TZOFFSETTO:+0200
TZNAME:CEST
DTSTART:20220327T010000
END:DAYLIGHT
BEGIN:STANDARD
TZOFFSETFROM:+0200
TZOFFSETTO:+0100
TZNAME:CET
DTSTART:20221030T010000
END:STANDARD
END:VTIMEZONE
BEGIN:VEVENT
DTSTART;TZID=Europe/Stockholm:20211118T150000
DTEND;TZID=Europe/Stockholm:20211118T150000
DTSTAMP:20260422T040513
CREATED:20210209T155914Z
LAST-MODIFIED:20240205T113813Z
UID:10000156-1637247600-1637247600@revenueforum.net
SUMMARY:Revenue Forum Webinar 18th November 2021
DESCRIPTION:Travel Statistics in the Hotel Industry\nThe effect of Covid-19 in numbers. What will the world look like post Pandemic? \nDate:\n18th of November 2021 \nTime:\n15.00-16.00 CET\n \nSpeakers:\n \nAlina Minut from STR Global\, Benchmarking\, Hotel Numbers in Europe\nSonia Merena from The Hotels Network\, From Benchmarking to Action\nAlin Lazar from eRevMax-RateTiger\, The power of Channel Mix and Automation\nStephan Kohl from HQ Revenue\, Pricing data in Europe \nModerator: Annemarie Gubanski from Taktikon Consultancy
URL:https://revenueforum.net/coming-soon/revenue-forum-webinar-18th-november-2021/
CATEGORIES:Webinar
ATTACH;FMTTYPE=image/png:https://revenueforum.net/wp-content/uploads/2021/02/Webinar-5-speakers-600-x-400-px-1.png
LOCATION:https://us02web.zoom.us/j/81327604400
END:VEVENT
BEGIN:VEVENT
DTSTART;TZID=Europe/Stockholm:20220113T150000
DTEND;TZID=Europe/Stockholm:20220113T160000
DTSTAMP:20260422T040513
CREATED:20210209T161829Z
LAST-MODIFIED:20240205T113812Z
UID:10000158-1642086000-1642089600@revenueforum.net
SUMMARY:Revenue Forum Webinar 13th January 2022
DESCRIPTION:Hotel distribution. What happens next?\nIn an ever changing distribution landscape it is vital to stay up to date. We have asked experts to help us look in the future and get prepared for changes to come. \n\nWhat role will Google play in the future?\nWhat will the impact of Rate Parity have in our pricing strategies?\nWhat can hotels do to decrease distribution cost?\nRate Parity or Content Parity\, what will the future be?\nHow can hotels make sure they get the best value per guest?\nBreaking the silos: Revenue Management vs e-Commerce\n\nDate:\n13th January 2022 \nTime:\n15.00-16.00 CET\n \nSpeakers: \nAnnemarie Gubanski from Taktikon Consultancy\, Finding your way in the Distribution Jungle\nMaeve Walls from Net Affinity\, The importance of Google Ads in distribution strategies\nPiotr Olesiński from Yield Planet\, Revenue vs Distribution. Silos can be broken\nMichail Tzouvelekis from Fornova. Content Parity\, the new Rate Parity\nAlex Barros from EasyWay\, Adding value to Guest Stay by keeping control of the Booking Stage \nSpecial guest: Martin Duchateau from Made in Louise
URL:https://revenueforum.net/coming-soon/revenue-forum-webinar-13th-january-2022/
CATEGORIES:Webinar
ATTACH;FMTTYPE=image/png:https://revenueforum.net/wp-content/uploads/2021/02/Webinar-2022-01-13-all-speakers.png
LOCATION:https://us02web.zoom.us/j/85201113807
END:VEVENT
BEGIN:VEVENT
DTSTART;TZID=Europe/Stockholm:20220224T150000
DTEND;TZID=Europe/Stockholm:20220224T160000
DTSTAMP:20260422T040513
CREATED:20200729T064146Z
LAST-MODIFIED:20240205T113811Z
UID:10000150-1645714800-1645718400@revenueforum.net
SUMMARY:Revenue Forum Webinar 24th February 2022
DESCRIPTION:Winning strategies\, a Revenue Manager’s advice\nIn challenging times\, can we learn something from Revenue Management experts? In this webinar we will highlight the best Revenue Management strategies for hotels. Especially during the past two years we have been forced to review our pricing strategies and have to be more creative. We have asked industry specialists to give us their insights and statistics. \n\nHow to avoid a price war when the market has an unpredictable pricing strategy\nEthics within Revenue Management. Can we really price as much (or little) as we want to?\nCan Automation help us to be more effective in an understaffed world?\nIs it possible to forecast? What is the best way to go about?\nWhich pricing strategies have worked the best during the past two years?\nWhat have we learned for future references?\n\nDate:\n24th of February 2022 \nTime:\n15.00-16.00 CET\n \nSpeakers: \nAnnemarie Gubanski from Taktikon Consultancy\, What we learned the past two years\nMichael McCartan from Atomize\, The Power of Automation. The story of Robin Hood Inn & Suites\nNicole Adair from SHR\, Back to Basics\nErik Muñoz from Lybra\, Winning Strategies\nNiels Mekenkamp from Cendyn\, Ethics in Revenue Management \nSpecial guest: Juan Olaya from La Banda Hostel
URL:https://revenueforum.net/coming-soon/revenue-forum-webinar-24th-february-2022/
CATEGORIES:Webinar
ATTACH;FMTTYPE=image/png:https://revenueforum.net/wp-content/uploads/2020/07/2022-02-24-6-speakers_Final.png
LOCATION:https://us02web.zoom.us/j/85442402407
END:VEVENT
BEGIN:VEVENT
DTSTART;TZID=Europe/Stockholm:20220407T150000
DTEND;TZID=Europe/Stockholm:20220407T160000
DTSTAMP:20260422T040513
CREATED:20210423T140935Z
LAST-MODIFIED:20240205T113810Z
UID:10000160-1649343600-1649347200@revenueforum.net
SUMMARY:Revenue Forum Webinar 7th of April 2022
DESCRIPTION:The future of Loyalty\nLoyalty today is more than “just” have our guests collect points so that they can spend it on free nights. They want personalised offers\, instant gratification and valid packages to choose from. \n\nWhat do our loyal guests expect from us now and in the future\nWhat technology do hotels have to choose from to meet these demands\nCash Back\, Personalised offers or a combination of both\, what is the future?\nAre current loyalty programs still valid?\n\nDate:\n7th of April 2022 \nTime:\n15.00-16.00 CET\n \nSpeakers: \nAnnemarie Gubanski from Taktikon Consultancy\, What does Loyalty mean to me?\nMichael Menzel from Fanz\, Turn customers into Fanz\nVladimir Martinov from Upgrade2\, Loyalty. Back to Basics\nChi Chan from Ireckonu\, Winning both the heart and mind of the customer\nAnna Tarnovskaya from SHR\,
URL:https://revenueforum.net/coming-soon/revenue-forum-webinar-7th-of-april-2022/
CATEGORIES:Webinar
ATTACH;FMTTYPE=image/jpeg:https://revenueforum.net/wp-content/uploads/2021/04/2022-04-07-5-speakers.jpg
LOCATION:https://us02web.zoom.us/j/85849485398
END:VEVENT
BEGIN:VEVENT
DTSTART;TZID=Europe/Stockholm:20220519T150000
DTEND;TZID=Europe/Stockholm:20220519T160000
DTSTAMP:20260422T040513
CREATED:20211228T074947Z
LAST-MODIFIED:20240205T113809Z
UID:10000159-1652972400-1652976000@revenueforum.net
SUMMARY:Revenue Forum Webinar 19th of May 2022
DESCRIPTION:Rate Parity\, a never ending story\nRate Parity is still a highly discussed topic and\, with an ever increasing amount of reservations coming from the Metasearch sites\, it is not likely to disappear from our lives soon. Though\, can Metasearch sites actually help hotels to dare and move away from Rate Parity? \n\nWhat are the best pricing strategies\nCan we solve Rate Parity or do we just have to live with it?\nIs Rate Parity a Hotel Only issue?\nHow can we have the best Digital Marketing strategy to decrease our distribution costs?\nHow can we benchmark us in a Rate Parity driven market?\nWhat do the OTAs have in store for us next?\nWill Metasearch sites have an impact on Rate Parity?\n\nDate:\n19th of May 2022 \nTime:\n15.00-16.00. CET \nSpeakers: \nFritz Müller from RateGain\, Managing Rate Parity\nAnnemarie Gubanski from Taktikon Consultancy\, How to control or not control your rates\nDiane Wennerland from D-EDGE Hospitality Solutions\, The direct effect of Rate Parity in data\nFiona Gilllen from The Hotels Network\, Tracking disparity and control your rates effectively \nSpecial guest: Sophie Martinez from Accor
URL:https://revenueforum.net/coming-soon/revenue-forum-webinar-19th-of-may-2022/
CATEGORIES:Webinar
ATTACH;FMTTYPE=image/jpeg:https://revenueforum.net/wp-content/uploads/2021/12/2022-05-19-5-speakers-1.jpg
LOCATION:https://zoom.us/j/94190653186
END:VEVENT
BEGIN:VEVENT
DTSTART;TZID=Europe/Stockholm:20220613T140000
DTEND;TZID=Europe/Stockholm:20220613T183000
DTSTAMP:20260422T040513
CREATED:20220408T052722Z
LAST-MODIFIED:20240205T113808Z
UID:10000092-1655128800-1655145000@revenueforum.net
SUMMARY:Revenue Forum Seminar Stockholm 13th of June
DESCRIPTION:Revenue Forum Seminar Stockholm\nFinally we can start again with our half day seminars! \nWhen: 13th of June\nWhere: Elite Palace in Stockholm \nTopic: The art of finding the right technology\nThis time we will talk about the technology necessary for the hotel industry to stay Up To Date. We have invited an expert panel to help us prepare for the future. \nThe hospitality industry wakes up after two years of pandemic and finds itself in a completely changed world where guest mix changed\, expectations increased and staff is in short supply. The question of finding the right technology is an important one \n\nHow to find the right technology\nWhat are the expectations our guests have on us?\nWhat future expectations do I have to meet?\nIt is 2022. When will we get systems that work together?\nThe importance of connectivity\n\n \nAgenda\n14:00 Registration. Coffee is served\n14:30 Welcome and introduction\n14:45 Kim Spolén from Infor\n15:15 Anna Tarnovskaya from SHR\n15:45 Swedish Fika\n16:00 Stephan Kohl from HQ Revenue\n16:30 Annemarie Gubanski from Taktikon\n17:00 After Work\n18:30 End of the day
URL:https://revenueforum.net/coming-soon/revenue-forum-seminar-13th-of-june/
LOCATION:Elite Palace Hotel\, Sankt Eriksgatan 115\, Stockholm\, 11343\, Sweden
CATEGORIES:Revenue Forums
ATTACH;FMTTYPE=image/jpeg:https://revenueforum.net/wp-content/uploads/2022/04/Revenue-Forum-Stockholm.jpg
END:VEVENT
BEGIN:VEVENT
DTSTART;TZID=Europe/Stockholm:20220614T020000
DTEND;TZID=Europe/Stockholm:20220614T183000
DTSTAMP:20260422T040513
CREATED:20220420T124809Z
LAST-MODIFIED:20240205T113807Z
UID:10000093-1655172000-1655231400@revenueforum.net
SUMMARY:Revenue Forum Seminar Gothenburg 14th of June
DESCRIPTION:   Revenue Forum Seminar Gothenburg\nFinally we can start again with our half day seminars! \nWhen: 14th of June\nWhere: Elite Plaza Hotel in Gothenburg \nTopic: The art of finding the right technology\nThis time we will talk about the technology necessary for the hotel industry to stay Up To Date. We have invited an expert panel to help us prepare for the future. \nThe hospitality industry wakes up after two years of pandemic and finds itself in a completely changed world where guest mix changed\, expectations increased and staff is in short supply. The question of finding the right technology is an important one \n\nHow to find the right technology\nWhat are the expectations our guests have on us?\nWhat future expectations do I have to meet?\nIt is 2022. When will we get systems that work together?\nThe importance of connectivity\n\n \nAgenda\n14:00 Registration. Coffee is served\n14:30 Welcome and introduction\n14:45 Kim Spolén from Infor\n15:15 Anna Tarnovskaya from SHR\n15:45 Swedish Fika\n16:00 Stephan Kohl from HQ Revenue\n16:30 Annemarie Gubanski from Taktikon\n17:00 After Work\n18:30 End of the day
URL:https://revenueforum.net/coming-soon/revenue-forum-seminar-14th-of-june/
LOCATION:Elite Plaza Göteborg\, Västra Hamngatan 3\, Gothenburg\, 41117\, Sweden
CATEGORIES:Revenue Forums
ATTACH;FMTTYPE=image/jpeg:https://revenueforum.net/wp-content/uploads/2022/04/Revenue-Forum-Gothenburg.jpg
END:VEVENT
BEGIN:VEVENT
DTSTART;TZID=Europe/Stockholm:20220615T140000
DTEND;TZID=Europe/Stockholm:20220615T183000
DTSTAMP:20260422T040513
CREATED:20220420T125404Z
LAST-MODIFIED:20240205T113806Z
UID:10000094-1655301600-1655317800@revenueforum.net
SUMMARY:Revenue Forum Seminar Copenhagen 15th of June
DESCRIPTION:Revenue Forum Seminar Copenhagen\nFinally we can start again with our half day seminars! \nWhen: 15th of June\nWhere: Hotel Kong Arthur \nTopic: The art of finding the right technology\nThis time we will talk about the technology necessary for the hotel industry to stay Up To Date. We have invited an expert panel to help us prepare for the future. \nThe hospitality industry wakes up after two years of pandemic and finds itself in a completely changed world where guest mix changed\, expectations increased and staff is in short supply. The question of finding the right technology is an important one \n\nHow to find the right technology\nWhat are the expectations our guests have on us?\nWhat future expectations do I have to meet?\nIt is 2022. When will we get systems that work together?\nThe importance of connectivity\n\n \nAgenda\n14:00 Registration. Coffee is served\n14:30 Welcome and introduction\n14:45 Kim Spolén from Infor\n15:15 Anna Tarnovskaya from SHR\n15:45 Break\n16:00 Stephan Kohl from HQ Revenue\n16:30 Annemarie Gubanski from Taktikon\n17:00 After Work\n18:30 End of the day
URL:https://revenueforum.net/coming-soon/revenue-forum-seminar-15th-of-june/
LOCATION:Hotel Kong Arthur\, Nørre Søgade 11\, Copenhagen\, 1370\, Denmark
CATEGORIES:Revenue Forums
ATTACH;FMTTYPE=image/jpeg:https://revenueforum.net/wp-content/uploads/2022/04/Revenue-Forum-Copenhagen.jpg
END:VEVENT
BEGIN:VEVENT
DTSTART;TZID=Europe/Stockholm:20220901T150000
DTEND;TZID=Europe/Stockholm:20220901T160000
DTSTAMP:20260422T040513
CREATED:20211228T080220Z
LAST-MODIFIED:20240205T113805Z
UID:10000157-1662044400-1662048000@revenueforum.net
SUMMARY:Revenue Forum Webinar 1st of September
DESCRIPTION:Must Have Technology for Hotels!\nThe right technology can help hotels to become more effective\, increase result and\, at the same time\, enhance guest experience. But how to find the right technology when there are so many providers to choose from? \n\nHow to find the right technology\nWhat are the expectations our guests have on us?\nWhat future expectations do I have to meet?\nIt is 2022. When will we get systems that work together?\nThe importance of connectivity\n\nDate:\n1st of September 2022 \nTime:\n15.00-16.00 CET \nSpeakers: \nAnnemarie Gubanski from Taktikon Consultancy\, what we can learn from extreme changes\nNikolai Kronborg from AeroGuest\, How the organisations strategy impacts the choice of technology\nChris Ashton from D-EDGE\, The Guest Booking Journey and it’s technology needs\nCristina Blaj from Open Revenue Consulting\, Sustainability and your choice in Technology\nNeville Isaac from BeonPrice\, Technology\, Revenue Management and the new KPIs to cover the guest journey \nSpecial guest: Dave Overeem from Inntel Hotels
URL:https://revenueforum.net/coming-soon/revenue-forum-webinar-1st-of-september/
CATEGORIES:Webinar
ATTACH;FMTTYPE=image/jpeg:https://revenueforum.net/wp-content/uploads/2021/12/2022-09-01-6-speakers-1.jpg
LOCATION:https://zoom.us/j/92263249796
END:VEVENT
BEGIN:VEVENT
DTSTART;TZID=Europe/Stockholm:20220906T140000
DTEND;TZID=Europe/Stockholm:20220906T170000
DTSTAMP:20260422T040513
CREATED:20220604T093932Z
LAST-MODIFIED:20240205T113804Z
UID:10000095-1662472800-1662483600@revenueforum.net
SUMMARY:Revenue Forum Seminar Rotterdam 6th of September
DESCRIPTION:Revenue Forum Seminar Rotterdam\nWhen: 6th of September\nWhere: The Student Hotel in Rotterdam \nTopic: Can hotels gain Market Share from the OTAs?\nOn the Revenue Forum Seminars we always choose topics which help the hospitality industry to improve their result. For every topic we choose interesting and inspiring speakers who will give their view of the topic. The afternoon always ends with an After Work Mingel where the hospitality industry can meet their peers. \nThis time we will talk about the possibility for hotels to gain market share from the OTAs and increase direct revenue.  We have invited an expert panel to help us prepare for the future. \nThe possibility to decrease distribution costs and dependence on the OTAs has long been a Hot Topic. Over time the hotels have gotten access to an increased number of systems and technology that can help them obtain the goal. In this seminar we will try to find out which strategy and system to choose from. \n\nHow to turn Lookers into Bookers on your website\nHow to gain the maximum revenue out of each individual guest\nWhat does a good Booking Engine need to do?\nHow can hotels determine the best Digital Marketing strategy fitting to their individual needs?\nHow can we best talk to our guest on every stage of the Customer Journey?\n\nAgenda\n14:00 Registration. Coffee is served\n14:30 Welcome and introduction\n14:40 Laureline Klijnsma from Stayntouch\, Why datacapture can give more direct revenue\n15:00 Nicole Pagels from Profitroom\, The perfect booking engine\, does it exist?\n15:20 Thomas Dieben from Becurious\, 5 questions you should ask your webmaster\n15:40 Mingel break. Coffee is served\n16:20 Hicham Benyebdri from Userguest\, What is Revenue RevMarketing Automation  and why should we care?\n16:40 Anna Tarnovskaya from SHR\, Turning OTA bookers to loyal guests\n17:00 After Work where we offer wine\, beer and snacks\n18:30 End of the day \nModerator: Annemarie Gubanski from Taktikon/Taktikon Hotels
URL:https://revenueforum.net/coming-soon/revenue-forum-seminar-rotterdam-6th-of-september/
LOCATION:The Student Hotel Rotterdam\, Willem Ruyslaan 225\, Rotterdam\, 3063 ER\, Netherlands
CATEGORIES:Revenue Forums
ATTACH;FMTTYPE=image/jpeg:https://revenueforum.net/wp-content/uploads/2022/05/Revenue-Forum-Rotterdam.jpg
END:VEVENT
BEGIN:VEVENT
DTSTART;TZID=Europe/Stockholm:20220907T140000
DTEND;TZID=Europe/Stockholm:20220907T170000
DTSTAMP:20260422T040513
CREATED:20220604T094245Z
LAST-MODIFIED:20240205T113803Z
UID:10000096-1662559200-1662570000@revenueforum.net
SUMMARY:Revenue Forum Seminar Brussels 7th of September
DESCRIPTION:Revenue Forum Seminar Brussels\nWhen: 7th of September\nWhere: The Libary Europe in Brussels \nTopic: Can hotels gain Market Share from the OTAs?\nOn the Revenue Forum Seminars we always choose topics which help the hospitality industry to improve their result. For every topic we choose interesting and inspiring speakers who will give their view of the topic. The afternoon always ends with an After Work Mingel where the hospitality industry can meet their peers. \nThis time we will talk about the possibility for hotels to gain market share from the OTAs and increase direct revenue.  We have invited an expert panel to help us prepare for the future. \nThe possibility to decrease distribution costs and dependence on the OTAs has long been a Hot Topic. Over time the hotels have gotten access to an increased number of systems and technology that can help them obtain the goal. In this seminar we will try to find out which strategy and system to choose from. \n\nHow to turn Lookers into Bookers on your website\nHow to gain the maximum revenue out of each individual guest\nWhat does a good Booking Engine need to do?\nHow can hotels determine the best Digital Marketing strategy fitting to their individual needs?\nHow can we best talk to our guest on every stage of the Customer Journey?\n\nAgenda\n14:00 Registration. Coffee is served\n14:30 Welcome and introduction\n14:40 Sarike den Breeker from Stayntouch\, Why datacapture can give more direct revenue\n15:00 Nicole Pagels from Profitroom\, The perfect booking engine\, does it exist?\n15:20 Thomas Dieben from Becurious\, 5 questions you should ask your webmaster\n15:40 Mingel break. Coffee is served\n16:20 Hicham Benyebdri from Userguest\, What is Revenue RevMarketing Automation  and why should we care?\n16:40 Anna Tarnovskaya from SHR\, Turning OTA bookers to loyal guests\n17:00 After Work where we offer wine\, beer and snacks\n18:30 End of the day \nModerator: Annemarie Gubanski from Taktikon/Taktikon Hotels
URL:https://revenueforum.net/coming-soon/revenue-forum-seminar-brussels-7th-of-september/
LOCATION:The Libary Europe\, Avenue de Broqueville 40\, Brussels\, Lambert\, 1200 W.S.L
CATEGORIES:Revenue Forums
ATTACH;FMTTYPE=image/jpeg:https://revenueforum.net/wp-content/uploads/2022/05/Revenue-Forum-Brussels.jpg
END:VEVENT
BEGIN:VEVENT
DTSTART;TZID=Europe/Stockholm:20220908T140000
DTEND;TZID=Europe/Stockholm:20220908T170000
DTSTAMP:20260422T040513
CREATED:20220604T094540Z
LAST-MODIFIED:20240205T113801Z
UID:10000097-1662645600-1662656400@revenueforum.net
SUMMARY:Revenue Forum Seminar Amsterdam 8th of September
DESCRIPTION:Revenue Forum Seminar Amsterdam\nWhen: 8th of September\nWhere: Hard Rock Hotel Amsterdam American \nTopic: Can hotels gain Market Share from the OTAs?\nOn the Revenue Forum Seminars we always choose topics which help the hospitality industry to improve their result. For every topic we choose interesting and inspiring speakers who will give their view of the topic. The afternoon always ends with an After Work Mingel where the hospitality industry can meet their peers. \nThis time we will talk about the possibility for hotels to gain market share from the OTAs and increase direct revenue.  We have invited an expert panel to help us prepare for the future. \nThe possibility to decrease distribution costs and dependence on the OTAs has long been a Hot Topic. Over time the hotels have gotten access to an increased number of systems and technology that can help them obtain the goal. In this seminar we will try to find out which strategy and system to choose from. \n\nHow to turn Lookers into Bookers on your website\nHow to gain the maximum revenue out of each individual guest\nWhat does a good Booking Engine need to do?\nHow can hotels determine the best Digital Marketing strategy fitting to their individual needs?\nHow can we best talk to our guest on every stage of the Customer Journey?\n\nAgenda\n14:00 Registration. Coffee is served\n14:30 Welcome and introduction\n14:40 Laureline Klijnsma from Stayntouch\, Why datacapture can give more direct revenue\n15:00 Nicole Pagels from Profitroom\, The perfect booking engine\, does it exist?\n15:20 Thomas Dieben from Becurious\, 5 questions you should ask your webmaster\n15:40 Mingel break. Coffee is served\n16:20 Hicham Benyebdri from Userguest\, What is Revenue RevMarketing Automation  and why should we care?\n16:40 Anna Tarnovskaya from SHR\, Turning OTA bookers to loyal guests\n17:00 After Work where we offer wine\, beer and snacks\n18:30 End of the day \nModerator: Annemarie Gubanski from Taktikon/Taktikon Hotels
URL:https://revenueforum.net/coming-soon/revenue-forum-seminar-amsterdam-8th-of-september/
LOCATION:Hard Rock Hotel Amsterdam\, Leidsekade 97\, Amsterdam\, 1017 MA\, Netherlands
CATEGORIES:Revenue Forums
ATTACH;FMTTYPE=image/jpeg:https://revenueforum.net/wp-content/uploads/2022/05/Revenue-Forum-Amsterdam.jpg
END:VEVENT
BEGIN:VEVENT
DTSTART;TZID=Europe/Stockholm:20221013T150000
DTEND;TZID=Europe/Stockholm:20221013T160000
DTSTAMP:20260422T040513
CREATED:20211230T102647Z
LAST-MODIFIED:20240205T113800Z
UID:10000155-1665673200-1665676800@revenueforum.net
SUMMARY:Revenue Forum Webinar 13th of October 2022
DESCRIPTION:Perfect Packaging\, how to increase ancillary revenue\nDate\n13th of October 2022 \nTime\n15.00-16.00 CET \nSpeakers \nAnnemarie Gubanski from Taktikon Consultancy\nSamantha Williams from ProfitRoom\,\nErik Tengen from Oaky\,\nNeil James\, ReviewPro\,\nHicham Benyebdri\, UserGuest\, \nSpecial guest: Therese Andersson from Icehotel
URL:https://revenueforum.net/coming-soon/revenue-forum-webinar-13th-of-october-2022/
CATEGORIES:Webinar
ATTACH;FMTTYPE=image/jpeg:https://revenueforum.net/wp-content/uploads/2021/12/2022-10-13-Webinar-6-speakers.jpg
LOCATION:https://zoom.us/j/94477782114
END:VEVENT
END:VCALENDAR