BEGIN:VCALENDAR
VERSION:2.0
PRODID:-//Revenue Forum - ECPv6.11.0//NONSGML v1.0//EN
CALSCALE:GREGORIAN
METHOD:PUBLISH
X-WR-CALNAME:Revenue Forum
X-ORIGINAL-URL:https://revenueforum.net
X-WR-CALDESC:Events for Revenue Forum
REFRESH-INTERVAL;VALUE=DURATION:PT1H
X-Robots-Tag:noindex
X-PUBLISHED-TTL:PT1H
BEGIN:VTIMEZONE
TZID:Europe/Stockholm
BEGIN:DAYLIGHT
TZOFFSETFROM:+0100
TZOFFSETTO:+0200
TZNAME:CEST
DTSTART:20210328T010000
END:DAYLIGHT
BEGIN:STANDARD
TZOFFSETFROM:+0200
TZOFFSETTO:+0100
TZNAME:CET
DTSTART:20211031T010000
END:STANDARD
END:VTIMEZONE
BEGIN:VEVENT
DTSTART;TZID=Europe/Stockholm:20211118T150000
DTEND;TZID=Europe/Stockholm:20211118T150000
DTSTAMP:20260423T020706
CREATED:20210209T155914Z
LAST-MODIFIED:20240205T113813Z
UID:10000156-1637247600-1637247600@revenueforum.net
SUMMARY:Revenue Forum Webinar 18th November 2021
DESCRIPTION:Travel Statistics in the Hotel Industry\nThe effect of Covid-19 in numbers. What will the world look like post Pandemic? \nDate:\n18th of November 2021 \nTime:\n15.00-16.00 CET\n \nSpeakers:\n \nAlina Minut from STR Global\, Benchmarking\, Hotel Numbers in Europe\nSonia Merena from The Hotels Network\, From Benchmarking to Action\nAlin Lazar from eRevMax-RateTiger\, The power of Channel Mix and Automation\nStephan Kohl from HQ Revenue\, Pricing data in Europe \nModerator: Annemarie Gubanski from Taktikon Consultancy
URL:https://revenueforum.net/coming-soon/revenue-forum-webinar-18th-november-2021/
CATEGORIES:Webinar
ATTACH;FMTTYPE=image/png:https://revenueforum.net/wp-content/uploads/2021/02/Webinar-5-speakers-600-x-400-px-1.png
LOCATION:https://us02web.zoom.us/j/81327604400
END:VEVENT
END:VCALENDAR