BEGIN:VCALENDAR
VERSION:2.0
PRODID:-//Revenue Forum - ECPv6.11.0//NONSGML v1.0//EN
CALSCALE:GREGORIAN
METHOD:PUBLISH
X-WR-CALNAME:Revenue Forum
X-ORIGINAL-URL:https://revenueforum.net
X-WR-CALDESC:Events for Revenue Forum
REFRESH-INTERVAL;VALUE=DURATION:PT1H
X-Robots-Tag:noindex
X-PUBLISHED-TTL:PT1H
BEGIN:VTIMEZONE
TZID:Europe/Stockholm
BEGIN:DAYLIGHT
TZOFFSETFROM:+0100
TZOFFSETTO:+0200
TZNAME:CEST
DTSTART:20180325T010000
END:DAYLIGHT
BEGIN:STANDARD
TZOFFSETFROM:+0200
TZOFFSETTO:+0100
TZNAME:CET
DTSTART:20181028T010000
END:STANDARD
BEGIN:DAYLIGHT
TZOFFSETFROM:+0100
TZOFFSETTO:+0200
TZNAME:CEST
DTSTART:20190331T010000
END:DAYLIGHT
BEGIN:STANDARD
TZOFFSETFROM:+0200
TZOFFSETTO:+0100
TZNAME:CET
DTSTART:20191027T010000
END:STANDARD
BEGIN:DAYLIGHT
TZOFFSETFROM:+0100
TZOFFSETTO:+0200
TZNAME:CEST
DTSTART:20200329T010000
END:DAYLIGHT
BEGIN:STANDARD
TZOFFSETFROM:+0200
TZOFFSETTO:+0100
TZNAME:CET
DTSTART:20201025T010000
END:STANDARD
END:VTIMEZONE
BEGIN:VTIMEZONE
TZID:Europe/Tallinn
BEGIN:DAYLIGHT
TZOFFSETFROM:+0200
TZOFFSETTO:+0300
TZNAME:EEST
DTSTART:20200329T010000
END:DAYLIGHT
BEGIN:STANDARD
TZOFFSETFROM:+0300
TZOFFSETTO:+0200
TZNAME:EET
DTSTART:20201025T010000
END:STANDARD
END:VTIMEZONE
BEGIN:VTIMEZONE
TZID:UTC
BEGIN:STANDARD
TZOFFSETFROM:+0000
TZOFFSETTO:+0000
TZNAME:UTC
DTSTART:20180101T000000
END:STANDARD
END:VTIMEZONE
BEGIN:VTIMEZONE
TZID:Europe/Copenhagen
BEGIN:DAYLIGHT
TZOFFSETFROM:+0100
TZOFFSETTO:+0200
TZNAME:CEST
DTSTART:20180325T010000
END:DAYLIGHT
BEGIN:STANDARD
TZOFFSETFROM:+0200
TZOFFSETTO:+0100
TZNAME:CET
DTSTART:20181028T010000
END:STANDARD
END:VTIMEZONE
BEGIN:VEVENT
DTSTART;TZID=Europe/Stockholm:20200903T100000
DTEND;TZID=Europe/Stockholm:20200903T110000
DTSTAMP:20260420T081235
CREATED:20200715T072709Z
LAST-MODIFIED:20240205T113825Z
UID:10000141-1599127200-1599130800@revenueforum.net
SUMMARY:Revenue Forum Webinar 3rd September
DESCRIPTION:Travel statistics during Covid-19\nCovid-19 has had a big effect on the travel industry. Various countries have incorporated various travel restrictions\, which have affected the way we travel\, where we travel to and how we search for travel destinations. \nDate:\n3rd of September 2020 \nTime:\n10.00-11.00 European time \nSpeakers:\nBjörn Vöhl from Expedia Group – Restoring travel through power of data\nAnnemarie Gubanski from Taktikon – Predictions for a near future\nAnna Israelsson from D-Edge – Research of travel\nPatrik Wennerland from Amadeus – Demand and recovery trends\nNiall Lenihan from Net Affinity – the art of direct distribution \nSpecial guest: Sebastian Arnshelm – Director of Revenue Management at Nobis Hotel Group
URL:https://revenueforum.net/coming-soon/revenue-forum-webinar-3rd-september/
CATEGORIES:Webinar
ORGANIZER;CN="Annemarie Gubanski":MAILTO:annemarie.gubanski@taktikon.com
END:VEVENT
BEGIN:VEVENT
DTSTART;TZID=Europe/Tallinn:20200630T140000
DTEND;TZID=Europe/Tallinn:20200630T150000
DTSTAMP:20260420T081235
CREATED:20200616T072507Z
LAST-MODIFIED:20240205T113826Z
UID:10000140-1593525600-1593529200@revenueforum.net
SUMMARY:Webinar for hoteliers:
DESCRIPTION:Webinar for Hoteliers: \nHow to be a winner post Covid-19\nThere will be a life after Covid-19 in which restrictions will be released and guests will start coming. What will this world look like and how can we make the best and most profitable strategy? We have gathered a panel of experts and special guests who will try to give you the answer. \nDate:\n30th of June 2020 \nTime:\n14.00-15.00 Baltic Time\n13.00-14.00 European Time\n \nSpeakers: \nHenrik Karlsson from Benchmarking Alliance\, The baltics in Numbers\nAnnemarie Gubanski from Taktikon Consultancy\, How to form a winning strategy\nKim Spolén from Infor\, 5 things not to miss before the business season begins\nAnnika Ülem from GuestJoy\, Contactless guest experience\, a future must!\nJanis Valodze from Hotel Dog\,  Preconditions for a successful restart \nSpecial guest: Gints Dzirnieks\, General Manager at Radisson Blu Hotel Olümpia \n 
URL:https://revenueforum.net/coming-soon/webinar-for-hoteliers/
CATEGORIES:Webinar
ORGANIZER;CN="Annemarie Gubanski":MAILTO:annemarie.gubanski@taktikon.com
END:VEVENT
BEGIN:VEVENT
DTSTART;TZID=Europe/Stockholm:20191127T140000
DTEND;TZID=Europe/Stockholm:20191127T190000
DTSTAMP:20260420T081235
CREATED:20191024T122938Z
LAST-MODIFIED:20240205T113831Z
UID:10000133-1574863200-1574881200@revenueforum.net
SUMMARY:Revenue Forum Stockholm
DESCRIPTION:Revenue Forum is coming to Stockholm on the 27th of November 2019 \nThe Agenda: \n13.00-14.00 Registration\n14.00-14.10 Introduction\n14.10-14.40 Turning data into Revenue Marcel Stiller – Nextguest CRM\n14.40-15.10 Get more corporate reservations and find new ways to increase revenue Fredrik Blomgren – Inodi \n15.10-15.40 Mingle break \n15.40-16.10 Mobile in 2020 and Beyond. William Cotter – Net Affinity\n16.10-16.40 The future in Distribution Management. Annemarie Gubanski – Taktikon\n16.40-17.00 Discussion Panel\n17.00-19.00 After Work Mingle \nDownload the presentations:\nAnnemarie Gubanski – Taktikon\nFredrik Blomgren – Inodi\nMarcel Stiller – NextGuest CRM\nWilliam Cotter – Net Affinity \nIf you would like to come into contact with the speakers\, the contact details are: \nAnnemarie Gubanski – Taktikon\nTel: +46 73 9044 222\nEmail: annemarie.gubanski@taktikon.com\nWebsite: www.taktikon.com \nFredrik Blomgren – Inodi\nTel: +46 (0)70 273 1200\nEmail: fredrik@inodi.com\nWebsite: www.inodi.com \nMarcel Stiller – NextGuest CRM\nTel: +49 179 / 233 59 52\nEmail: marcel.stiller@nextguest.com\nWebsite: www.nextguestcrm.com \nWilliam Cotter – Net Affinity\nTel: +353 1 2939906\nEmail: william@netaffinity.com\nWebsite: www.netaffinity.com
URL:https://revenueforum.net/coming-soon/revenue-forum-stockholm/
LOCATION:Victory Hotel\, Lilla Nygatan 5\, Stockholm\, 111 28\, Sweden
END:VEVENT
BEGIN:VEVENT
DTSTART;TZID=Europe/Stockholm:20191126T140000
DTEND;TZID=Europe/Stockholm:20191126T190000
DTSTAMP:20260420T081235
CREATED:20191017T154909Z
LAST-MODIFIED:20240205T113832Z
UID:10000131-1574776800-1574794800@revenueforum.net
SUMMARY:Revenue Forum Visby
DESCRIPTION:Revenue Forum is coming to Visby on the 26th of November 2019 \nThe Agenda: \n13.00-14.00 Registration\n14.00-14.10 Introduction\n14.10-14.40 The future in Distribution Management. Annemarie Gubanski – Taktikon\n14.40-15.10 Mobile in 2020 and Beyond. William Cotter – Net Affinity \n15.10-15.40 Mingle break \n15.40-16.10 Get more corporate reservations and find new ways to increase revenue Fredrik Blomgren – Inodi\n16.10-16.40 Turning data into Revenue Marcel Stiller – NextGuest CRM\n16.40-17.00 Discussion Panel\n17.00-19.00 After Work Mingle \nDownload the presentations:\nAnnemarie Gubanski – Taktikon\nFredrik Blomgren – Inodi\nMarcel Stiller – NextGuest CRM\nWilliam Cotter – Net Affinity \nIf you would like to come into contact with the speakers\, the contact details are: \nAnnemarie Gubanski – Taktikon\nTel: +46 73 9044 222\nEmail: annemarie.gubanski@taktikon.com\nWebsite: www.taktikon.com \nFredrik Blomgren – Inodi\nTel: +46 (0)70 273 1200\nEmail: fredrik@inodi.com\nWebsite: www.inodi.com \nMarcel Stiller – NextGuest CRM\nTel: +49 179 / 233 59 52\nEmail: marcel.stiller@nextguest.com\nWebsite: www.nextguestcrm.com \nWilliam Cotter – Net Affinity\nTel: +353 1 2939906\nEmail: william@netaffinity.com\nWebsite: www.netaffinity.com
URL:https://revenueforum.net/coming-soon/revenue-forum-visby/
LOCATION:Clarion Hotel Visby\, Strandgatan 6\, Visby\, 62157\, Sweden
END:VEVENT
BEGIN:VEVENT
DTSTART;TZID=Europe/Stockholm:20191125T140000
DTEND;TZID=Europe/Stockholm:20191125T200000
DTSTAMP:20260420T081235
CREATED:20191024T122651Z
LAST-MODIFIED:20240205T113833Z
UID:10000132-1574690400-1574712000@revenueforum.net
SUMMARY:Revenue Forum Gothenburg
DESCRIPTION:Revenue Forum is coming to Gothenburg on the 25th of November 2019 \nThe Agenda: \n13.00-14.00 Registration\n14.00-14.10 Introduction\n14.10-14.40 Get more corporate reservations and find new ways to increase revenue Fredrik Blomgren – Inodi\n14.40-15.10 Mobile in 2020 and Beyond. William Cotter – Net Affinity \n15.10-15.40 Mingle break \n15.40-16.10 Turning data into Revenue Marcel Stiller – NextGuest CRM\n16.10-16.40 The future in Distribution Management. Annemarie Gubanski – Taktikon\n16.40-17.00 Discussion Panel\n17.00-19.00 After Work Mingle \nDownload the presentations:\nAnnemarie Gubanski – Taktikon\nFredrik Blomgren – Inodi\nMarcel Stiller – NextGuest CRM\nWilliam Cotter – Net Affinity \nIf you would like to come into contact with the speakers\, the contact details are: \nAnnemarie Gubanski – Taktikon\nTel: +46 73 9044 222\nEmail: annemarie.gubanski@taktikon.com\nWebsite: www.taktikon.com \nFredrik Blomgren – Inodi\nTel: +46 (0)70 273 1200\nEmail: fredrik@inodi.com\nWebsite: www.inodi.com \nMarcel Stiller – NextGuest CRM\nTel: +49 179 / 233 59 52\nEmail: marcel.stiller@nextguest.com\nWebsite: www.nextguestcrm.com \nWilliam Cotter – Net Affinity\nTel: +353 1 2939906\nEmail: william@netaffinity.com\nWebsite: www.netaffinity.com
URL:https://revenueforum.net/coming-soon/revenue-forum-gothenburg/
LOCATION:Hotel Opera\, NILS ERICSONSGATAN 23\, Gothenburg\, 41103\, Sweden
END:VEVENT
BEGIN:VEVENT
DTSTART;TZID=Europe/Stockholm:20191113T080000
DTEND;TZID=Europe/Stockholm:20191113T120000
DTSTAMP:20260420T081235
CREATED:20191008T094308Z
LAST-MODIFIED:20240205T113834Z
UID:10000128-1573632000-1573646400@revenueforum.net
SUMMARY:Revenue Forum Tallinn
DESCRIPTION:Revenue Forum is coming to Tallinn on the 13th of November 2019 \nThe Agenda: \n08.00-08.30 Registration\, breakfast is served!\n08.30-08.40 Introduction\n08.40-09.00 Mobile in 2020 and Beyond. Niall Lenihan – Net Affinity\n09.00-09.20 Innovation in Hotels. Janis Valodze – Hotel Dog\n09.20-09.40 Future-proof PMS\, how to choose\, what to choose\, what is the most important for hotels? Vasily Tsypun – Hoist Group Vasily Tsypun – Hoist Group\n09.40-10.00 Hospitality buzzwords\, real and fake – what do they mean? Kim Spolén – Infor \n10.00-10.30 Mingle break \n10.30-10.50 Andrew Martin – Guestjoy\n10.50-11.10 Maris Lastovskis – BookVisit\n11.10-11.30 Annemarie Gubanski – Taktikon\n11.30-12.00 Discussion Forum \n12.00 end of the event! \nDownload the presentations:\nAnnemarie Gubanski\, Taktikon AB\nAndrew Martin – Guestjoy\nKim Spolén – Infor\nJanis Valodze – Hotel Dog\nMaris Lastovskis – BookVisit\nNiall Lenihan – Net Affinity\nVasily Tsypun – Hoist Group \nIf you would like to come into contact with the speakers\, the contact details are: \nAnnemarie Gubanski – Taktikon\nTel: +46 73 9044 222\nEmail: annemarie.gubanski@taktikon.com\nWebsite: www.taktikon.com \nAnnika Ülem – GuestJoy\nTel: +372 528 4954 (EST)\nEmail: annika@guestjoy.com\nWebsite: guestjoy.com \nJanis Valodze – Hotel Dog\nTel: +371 23557715\nEmail: janis.valodze@hoteldog.info\nWebsite: www.hoteldog.info \nKim Spolén – Infor\nTel: +46 8 555 25 777\nEmail: kim.spolen@infor.com\nWebsite: www.infor.com \nMaris Lastivskis – BookVisit\nTel: +371 28 388 333\nEmail: maris.lastovskis@visit.com\nWebsite: www.visitgroup.com \nNiall Lenihan – Net Affinity\nTel: +353 860 430 502\nEmail: niall@netaffinity.com\nWebsite: www.netaffinity.com \nVasily Tsypun\nTel: +372 55 625 629\nEmail: vasily.tsypun@hoistpartner.com\nWebsite: www.hoistpartner.com
URL:https://revenueforum.net/coming-soon/revenue-forum-tallinn/
LOCATION:Tallink Spa & Conference Hotel\, Sadama 11a\, Tallinn\, 10111\, Estonia
END:VEVENT
BEGIN:VEVENT
DTSTART;TZID=Europe/Stockholm:20191112T080000
DTEND;TZID=Europe/Stockholm:20191112T170000
DTSTAMP:20260420T081235
CREATED:20191008T094346Z
LAST-MODIFIED:20240205T113835Z
UID:10000130-1573545600-1573578000@revenueforum.net
SUMMARY:Revenue Forum Riga
DESCRIPTION:Revenue Forum is coming to Riga on the 12th of November 2019 \nThe Agenda: \n08.00-08.30 Registration\, breakfast is served!\n08.30-08.40 Introduction\n08.40-09.00 Hospitality buzzwords\, real and fake – what do they mean? Kim Spolén – Infor\n09.00-09.20 Future-proof PMS\, how to choose\, what to choose\, what is the most important for hotels? Vasily Tsypun – Hoist Group\n09.20-09.40 Direct reservations and Global sales trends for 2020. Maris Lastovskis – BookVisit\n09.40-10.00 Mobile in 2020 and Beyond. Niall Lenihan – Net Affinity \n10.00-10.30 Mingle break \n10.30-10.50 Annika Ülem – Guestjoy\n10.50-11.10 Innovation in Hotels. Janis Valodze – Hotel Dog\n11.10-11.30 How do I find the perfect system? Annemarie Gubanski – Taktikon\n11.30-12.00 Discussion forum \n12.00 end of the event! \nDownload the presentations\nAnnemarie Gubanski\, Taktikon AB\nAnnika Ülem – Guestjoy\nKim Spolén – Infor\nJanis Valodze – Hotel Dog\nMaris Lastovskis – BookVisit\nNiall Lenihan – Net Affinity\nVasily Tsypun – Hoist Group \nIf you would like to come into contact with the speakers\, the contact details are: \nAnnemarie Gubanski – Taktikon\nTel: +46 73 9044 222\nEmail: annemarie.gubanski@taktikon.com\nWebsite: www.taktikon.com \nAnnika Ülem – GuestJoy\nTel: +372 528 4954 (EST)\nEmail: annika@guestjoy.com\nWebsite: guestjoy.com \nJanis Valodze – Hotel Dog\nTel: +371 23557715\nEmail: janis.valodze@hoteldog.info\nWebsite: www.hoteldog.info \nKim Spolén – Infor\nTel: +46 8 555 25 777\nEmail: kim.spolen@infor.com\nWebsite: www.infor.com \nMaris Lastivskis – BookVisit\nTel: +371 28 388 333\nEmail: maris.lastovskis@visit.com\nWebsite: www.visitgroup.com \nNiall Lenihan – Net Affinity\nTel: +353 860 430 502\nEmail: niall@netaffinity.com\nWebsite: www.netaffinity.com \nVasily Tsypun\nTel: +372 55 625 629\nEmail: vasily.tsypun@hoistpartner.com\nWebsite: www.hoistpartner.com
URL:https://revenueforum.net/coming-soon/revenue-forum-riga/
LOCATION:Tallink Hotel Riga\, Elizabetes iela 24-1\, Riga\, 1050\, Latvia
END:VEVENT
BEGIN:VEVENT
DTSTART;TZID=Europe/Stockholm:20191111T080000
DTEND;TZID=Europe/Stockholm:20191111T120000
DTSTAMP:20260420T081235
CREATED:20191008T094327Z
LAST-MODIFIED:20240205T113835Z
UID:10000129-1573459200-1573473600@revenueforum.net
SUMMARY:Revenue Forum Vilnius
DESCRIPTION:Revenue Forum is coming to Vilnius on the 11th of November 2019 \nThe Agenda: \n08.00-08.30 Registration\, breakfast is served!\n08.30-08.40 Introduction\n08.40-09.00 How do I find the perfect system? Annemarie Gubanski – Taktikon\n09.00-09.20 Direct reservations and Global sales trends for 2020. Maris Lastovskis – BookVisit\n09.20-09.40 Future-proof PMS\, how to choose\, what to choose\, what is the most important for hotels? Vasily Tsypun – Hoist Group Vasily Tsypun – Hoist Group \n10.00-10.30 Mingle break \n10.30-10.50 Annika Ülem – Guestjoy\n10.50-11.10 Hospitality buzzwords\, real and fake – what do they mean? Kim Spolén – Infor\n11.10-11.30 Innovation in Hotels. Janis Valodze – Hotel Dog\n11.30-12.00 Mobile in 2020 and Beyond. Niall Lenihan – Net Affinity \n12.00 end of the event! \nDownload the presentations\nAnnemarie Gubanski\, Taktikon AB\nJevgenia Petrosjan – Guestjoy\nKim Spolén – Infor\nJanis Valodze – Hotel Dog\nMaris Lastovskis – BookVisit\nNiall Lenihan – Net Affinity\nVasily Tsypun – Hoist Group \n  \nIf you would like to come into contact with the speakers\, the contact details are: \nAnnemarie Gubanski – Taktikon\nTel: +46 73 9044 222\nEmail: annemarie.gubanski@taktikon.com\nWebsite: www.taktikon.com \nAnnika Ülem – GuestJoy\nTel: +372 528 4954 (EST)\nEmail: annika@guestjoy.com\nWebsite: guestjoy.com \nJanis Valodze – Hotel Dog\nTel: +371 23557715\nEmail: janis.valodze@hoteldog.info\nWebsite: www.hoteldog.info \nKim Spolén – Infor\nTel: +46 8 555 25 777\nEmail: kim.spolen@infor.com\nWebsite: www.infor.com \nMaris Lastivskis – BookVisit\nTel: +371 28 388 333\nEmail: maris.lastovskis@visit.com\nWebsite: www.visitgroup.com \nNiall Lenihan – Net Affinity\nTel: +353 860 430 502\nEmail: niall@netaffinity.com\nWebsite: www.netaffinity.com \nVasily Tsypun\nTel: +372 55 625 629\nEmail: vasily.tsypun@hoistpartner.com\nWebsite: www.hoistpartner.com
URL:https://revenueforum.net/coming-soon/revenue-forum-vilnius/
LOCATION:Courtyard by Marriott\, Rålambshovsleden 50\, Stockholm\, 112 19\, Sweden
END:VEVENT
BEGIN:VEVENT
DTSTART;TZID=UTC:20181126T140000
DTEND;TZID=UTC:20181126T190000
DTSTAMP:20260420T081235
CREATED:20181113T100204Z
LAST-MODIFIED:20240205T113837Z
UID:10000127-1543240800-1543258800@revenueforum.net
SUMMARY:Revenue Forum Gotland
DESCRIPTION:Revenue Forum kommer till Visby\, Gotland den 26:e november 2018! \nAgenda: \n13.30-14.00 Registrering \n14.00-14.10 Introduktion \n14.10-14.40 Annemarie Gubanski – Taktikon\n14.40-15.10 Niclas Bylund – Creative Gotland \n15.10-15.40 Mingelpaus \n15.40-16.10 Anna Israelsson – Availpro\n16.10-16.40 Johan Borgstedt – Benchmarking Alliance \n16.40-17.00 Diskussionsforum \n17.00-19.00 AW
URL:https://revenueforum.net/coming-soon/revenue-forum-gotland-2/
LOCATION:Best Western Strand Hotel Visby\, Strandgatan 34\, Visby\, 621 56\, Sweden
ATTACH;FMTTYPE=image/jpeg:https://revenueforum.net/wp-content/uploads/2018/11/Gotland-Unsplash-medium.jpg
END:VEVENT
BEGIN:VEVENT
DTSTART;TZID=UTC:20181126T140000
DTEND;TZID=UTC:20181126T190000
DTSTAMP:20260420T081235
CREATED:20181108T085754Z
LAST-MODIFIED:20240205T113837Z
UID:10000126-1543240800-1543258800@revenueforum.net
SUMMARY:Revenue Forum Gotland
DESCRIPTION:Revenue Forum is coming to Visby\, Gotland on 26th November 2018! \nThe Agenda: \n13.30-14.00 Registration \n14.00-14.10 Introduction \n14.10-14.40 Annemarie Gubanski – Taktikon\n14.40-15.10 Niclas Bylund – Creative Gotland \n15.10-15.40 Mingle break \n15.40-16.10 Anna Israelsson – Availpro\n16.10-16.40 Johan Borgstedt – Benchmarking Alliance \n16.40-17.00 Discussion Forum \n17.00-19.00 After Work Mingle
URL:https://revenueforum.net/coming-soon/revenue-forum-gotland/
LOCATION:Best Western Strand Hotel Visby\, Strandgatan 34\, Visby\, 621 56\, Sweden
END:VEVENT
BEGIN:VEVENT
DTSTART;TZID=Europe/Stockholm:20181019T140000
DTEND;TZID=Europe/Stockholm:20181019T190000
DTSTAMP:20260420T081235
CREATED:20180823T090653Z
LAST-MODIFIED:20240205T113839Z
UID:10000125-1539957600-1539975600@revenueforum.net
SUMMARY:Revenue Forum i Stockholm
DESCRIPTION:Revenue Forum kommer att hålla sitt sista Forum för hösten i Stockholm 19 oktober 2018! \nAgenda: \n14.00-14.10 Introduktion \n14.10-14.30 Kim Spolén (Infor)\n14.30-14.50 Minna Vaisanen (Pace)\n14.50-15.10 Ortensia Anghel (IDeaS) \n15.10-15.30 Mingelpaus \n15.30-15.50 Henrik Dahlbom & Mats Grähs (Price My Hotelroom)\n15.50-16.10 Michael Schäffner (Duetto)\n16.10-16.30 Leif Jägerbrand (Atomize) \n16.30-17.00 Diskussionsforum \n17.00-19.00 AW \nRegistrera din plats här \n 
URL:https://revenueforum.net/coming-soon/revenue-forum-in-stockholm/
LOCATION:Långholmen Hotell\, Långholmen Hotell & Restaurang AB Box 9116\, Stockholm\, 102 72\, Sweden
END:VEVENT
BEGIN:VEVENT
DTSTART;TZID=Europe/Stockholm:20181019T140000
DTEND;TZID=Europe/Stockholm:20181019T190000
DTSTAMP:20260420T081235
CREATED:20180823T090653Z
LAST-MODIFIED:20240205T113838Z
UID:10000124-1539957600-1539975600@revenueforum.net
SUMMARY:Revenue Forum in Stockholm
DESCRIPTION:Revenue Forum will be rounding up its Autumn series in Stockholm on 19th October 2018! \nThe Agenda: \n14.00-14.10 Introduction \n14.10-14.30 Kim Spolén (Infor)\n14.30-14.50 Minna Vaisanen (Pace)\n14.50-15.10 Ortensia Anghel (IDeaS) \n15.10-15.30 Mingle Break \n15.30-15.50 Henrik Dahlbom & Mats Grähs (Price My Hotelroom)\n15.50-16.10 Michael Schäffner (Duetto)\n16.10-16.30 Leif Jägerbrand (Atomize) \n16.30-17.00 Discussion Forum \n17.00-19.00 After Work Mingle \nReserve your spot here \n 
URL:https://revenueforum.net/coming-soon/revenue-forum-in-stockholm-2/
LOCATION:Långholmen Hotell\, Långholmen Hotell & Restaurang AB Box 9116\, Stockholm\, 102 72\, Sweden
END:VEVENT
BEGIN:VEVENT
DTSTART;TZID=Europe/Stockholm:20181018T140000
DTEND;TZID=Europe/Stockholm:20181018T190000
DTSTAMP:20260420T081235
CREATED:20180823T090305Z
LAST-MODIFIED:20240205T113840Z
UID:10000122-1539871200-1539889200@revenueforum.net
SUMMARY:Revenue Forum in Gothenburg
DESCRIPTION:Revenue Forum is coming to Gothenburg on 18th October 2018! \nThis is an afternoon event\, kicking off at 2pm with coffee and introduction\, followed by three speakers. A short mingle break around 3pm\, followed by three more inspiring speakers. We will round up the day with a mingle with drinks and snacks from 5pm until 7pm. \nExact agenda and venue will posted by the end of week 35. \nReserve your spot here
URL:https://revenueforum.net/coming-soon/revenue-forum-in-gothenburg-2/
END:VEVENT
BEGIN:VEVENT
DTSTART;TZID=Europe/Stockholm:20181018T140000
DTEND;TZID=Europe/Stockholm:20181018T190000
DTSTAMP:20260420T081235
CREATED:20180823T090305Z
LAST-MODIFIED:20240205T113841Z
UID:10000111-1539871200-1539889200@revenueforum.net
SUMMARY:Revenue Forum i Göteborg
DESCRIPTION:Revenue Forum kommer till Göteborg 18:e oktober 2018! \nAgenda: \n14.00-14.10 Introduktion \n14.10-14.30 Kim Spolén (Infor)\n14.30-14.50 Jens Munch (Pace)\n14.50-15.10 Ortensia Anghel (IDeaS) \n15.10-15.30 Mingelpaus \n15.30-15.50 Henrik Dahlbom & Mats Grähs (Price My Hotelroom)\n15.50-16.10 Michael Schäffner (Duetto)\n16.10-16.30 Leif Jägerbrand (Atomize) \n16.30-17.00 Diskussionsforum \n17.00-19.00 AW \nRegistrera din plats här
URL:https://revenueforum.net/coming-soon/revenue-forum-in-gothenburg-4/
LOCATION:Scandic Europa\, Nils Ericsonsgatan 21\, Göteborg\, Sweden
END:VEVENT
BEGIN:VEVENT
DTSTART;TZID=Europe/Stockholm:20181018T140000
DTEND;TZID=Europe/Stockholm:20181018T190000
DTSTAMP:20260420T081235
CREATED:20180823T090305Z
LAST-MODIFIED:20240205T113842Z
UID:10000123-1539871200-1539889200@revenueforum.net
SUMMARY:Revenue Forum in Gothenburg
DESCRIPTION:Revenue Forum is coming to Gothenburg on 18th October 2018! \nThe Agenda: \n14.00-14.10 Introduction \n14.10-14.35 Kim Spolén (Infor)\n14.35-15.10 Ortensia Anghel (IDeaS) \n15.00-15.20 Mingle break \n15.20-15.45 Henrik Dahlbom & Mats Grähs (Price My Hotelroom)\n15.45-16.10 Michael Schäffner (Duetto)\n16.10-16.25 Leif Jägerbrand (Atomize) \n16.30-17.00 Discussion Forum \n17.00-19.00 After Work Mingle \nReserve your spot here
URL:https://revenueforum.net/coming-soon/revenue-forum-in-gothenburg/
LOCATION:Scandic Europa\, Nils Ericsonsgatan 21\, Göteborg\, Sweden
END:VEVENT
BEGIN:VEVENT
DTSTART;TZID=Europe/Stockholm:20181018T140000
DTEND;TZID=Europe/Stockholm:20181018T190000
DTSTAMP:20260420T081235
CREATED:20180823T090305Z
LAST-MODIFIED:20240205T113840Z
UID:10000112-1539871200-1539889200@revenueforum.net
SUMMARY:Revenue Forum in Gothenburg
DESCRIPTION:Revenue Forum is coming to Gothenburg on 18th October 2018! \nThe Agenda: \n14.00-14.10 Introduction \n14.10-14.35 Kim Spolén (Infor)\n14.35-15.10 Ortensia Anghel (IDeaS) \n15.00-15.20 Mingle break \n15.20-15.45 Henrik Dahlbom & Mats Grähs (Price My Hotelroom)\n15.45-16.10 Michael Schäffner (Duetto)\n16.10-16.25 Leif Jägerbrand (Atomize) \n16.30-17.00 Discussion Forum \n17.00-19.00 After Work Mingle \nReserve your spot here
URL:https://revenueforum.net/coming-soon/revenue-forum-in-gothenburg-3/
LOCATION:Scandic Europa\, Nils Ericsonsgatan 21\, Göteborg\, Sweden
END:VEVENT
BEGIN:VEVENT
DTSTART;TZID=Europe/Copenhagen:20181017T140000
DTEND;TZID=Europe/Copenhagen:20181017T190000
DTSTAMP:20260420T081235
CREATED:20180823T090112Z
LAST-MODIFIED:20240205T113843Z
UID:10000113-1539784800-1539802800@revenueforum.net
SUMMARY:Revenue Forum i Köpenhamn
DESCRIPTION:Revenue Forum kommer till Köpenhamn 17 oktober 2018! \nAgenda: \n14.00-14.10 Introduktion \n14.10-14.30 Kim Spolén (Infor)\n14.30-14.50 Jens Munch (Pace)\n14.50-15.10 Ortensia Anghel (IDeaS) \n15.10-15.30 Mingelpaus \n15.30-15.50 Henrik Dahlbom & Mats Grähs (Price My Hotelroom)\n15.50-16.10 Michael Schäffner (Duetto)\n16.10-16.30 Leif Jägerbrand (Atomize) \n16.30-17.00 Diskussionsforum \n17.00-19.00 AW \nRegistrera din plats här
URL:https://revenueforum.net/coming-soon/revenue-forum-in-copenhagen/
LOCATION:Phoenix Hotel Copenhagen\, Bredgade 37\, Copenhagen\, 1260\, Denmark
END:VEVENT
BEGIN:VEVENT
DTSTART;TZID=Europe/Copenhagen:20181017T140000
DTEND;TZID=Europe/Copenhagen:20181017T190000
DTSTAMP:20260420T081235
CREATED:20180823T090112Z
LAST-MODIFIED:20240205T113842Z
UID:10000114-1539784800-1539802800@revenueforum.net
SUMMARY:Revenue Forum in Copenhagen
DESCRIPTION:Revenue Forum is coming to Copenhagen on 17th October 2018! \nThe Agenda: \n14.00-14.10 Introduction \n14.10-14.30 Kim Spolén (Infor)\n14.30-14.50 Jens Munch (Pace)\n14.50-15.10 Ortensia Anghel (IDeaS) \n15.10-15.30 Mingle break \n15.30-15.50 Henrik Dahlbom & Mats Grähs (Price My Hotelroom)\n15.50-16.10 Michael Schäffner (Duetto)\n16.10-16.30 Leif Jägerbrand (Atomize) \n16.30-17.00 Discussion Forum \n17.00-19.00 After Work Mingle \nReserve your spot here
URL:https://revenueforum.net/coming-soon/revenue-forum-in-copenhagen-2/
LOCATION:Phoenix Hotel Copenhagen\, Bredgade 37\, Copenhagen\, 1260\, Denmark
END:VEVENT
END:VCALENDAR