BEGIN:VCALENDAR
VERSION:2.0
PRODID:-//Revenue Forum - ECPv6.11.0//NONSGML v1.0//EN
CALSCALE:GREGORIAN
METHOD:PUBLISH
X-ORIGINAL-URL:https://revenueforum.net
X-WR-CALDESC:Events for Revenue Forum
REFRESH-INTERVAL;VALUE=DURATION:PT1H
X-Robots-Tag:noindex
X-PUBLISHED-TTL:PT1H
BEGIN:VTIMEZONE
TZID:Europe/Stockholm
BEGIN:DAYLIGHT
TZOFFSETFROM:+0100
TZOFFSETTO:+0200
TZNAME:CEST
DTSTART:20230326T010000
END:DAYLIGHT
BEGIN:STANDARD
TZOFFSETFROM:+0200
TZOFFSETTO:+0100
TZNAME:CET
DTSTART:20231029T010000
END:STANDARD
END:VTIMEZONE
BEGIN:VEVENT
DTSTART;TZID=Europe/Stockholm:20230608T150000
DTEND;TZID=Europe/Stockholm:20230608T160000
DTSTAMP:20260421T062400
CREATED:20220926T102019Z
LAST-MODIFIED:20240205T113748Z
UID:10000169-1686236400-1686240000@revenueforum.net
SUMMARY:Revenue Forum Webinar 8th of June 2023
DESCRIPTION:How the Hotel Industry can become a sustainable one\nWith Carbon Footprint becoming an increasingly important KPI and travel overall seen to have a negative impact on the environment\, maintaining sustainability is vital. How can we make sure our industry is seen as a sustainable one? \nDate:\n8th of June 2023 \nTime:\n15.00-16.00 CET \nSpeakers:\nSimon Strandvik from Greentime\, How the Hotel Industry can become a sustainable one\nMatti Ala-Outinen from Moder\, Bringing sustainability into the heart of the hospitality technology\nWolfgang Hanreich from BEONx\, Profitability Meets Sustainability: Leveraging Technology for Hotel Success\nSpecial guests: Sebastian Tarkowski from Fagerudd and Daniel Skog from STF (Swedish Tourist Foundation)\nModerator: Annemarie Gubanski from Taktikon Consultancy
URL:https://revenueforum.net/coming-soon/revenue-forum-webinar-8th-of-june-2023/
CATEGORIES:Webinar
ATTACH;FMTTYPE=image/png:https://revenueforum.net/wp-content/uploads/2022/09/2023-06-08-6-speakers-.png
LOCATION:https://us06web.zoom.us/j/81463247580
END:VEVENT
END:VCALENDAR